BEGIN:VCALENDAR
VERSION:2.0
PRODID:-//PCNB- Progressive Conservative Party of New Brunswick - ECPv6.15.12.2//NONSGML v1.0//EN
CALSCALE:GREGORIAN
METHOD:PUBLISH
X-ORIGINAL-URL:https://pcnb.ca/fr
X-WR-CALDESC:Évènements pour PCNB- Progressive Conservative Party of New Brunswick
REFRESH-INTERVAL;VALUE=DURATION:PT1H
X-Robots-Tag:noindex
X-PUBLISHED-TTL:PT1H
BEGIN:VTIMEZONE
TZID:America/Moncton
BEGIN:DAYLIGHT
TZOFFSETFROM:-0400
TZOFFSETTO:-0300
TZNAME:ADT
DTSTART:20250309T060000
END:DAYLIGHT
BEGIN:STANDARD
TZOFFSETFROM:-0300
TZOFFSETTO:-0400
TZNAME:AST
DTSTART:20251102T050000
END:STANDARD
BEGIN:DAYLIGHT
TZOFFSETFROM:-0400
TZOFFSETTO:-0300
TZNAME:ADT
DTSTART:20260308T060000
END:DAYLIGHT
BEGIN:STANDARD
TZOFFSETFROM:-0300
TZOFFSETTO:-0400
TZNAME:AST
DTSTART:20261101T050000
END:STANDARD
BEGIN:DAYLIGHT
TZOFFSETFROM:-0400
TZOFFSETTO:-0300
TZNAME:ADT
DTSTART:20270314T060000
END:DAYLIGHT
BEGIN:STANDARD
TZOFFSETFROM:-0300
TZOFFSETTO:-0400
TZNAME:AST
DTSTART:20271107T050000
END:STANDARD
END:VTIMEZONE
BEGIN:VEVENT
DTSTART;TZID=America/Moncton:20260411T090000
DTEND;TZID=America/Moncton:20260411T110000
DTSTAMP:20260422T043623
CREATED:20260309T165256Z
LAST-MODIFIED:20260309T165256Z
UID:4865-1775898000-1775905200@pcnb.ca
SUMMARY:Progressive Conservative Conversations
DESCRIPTION:A PCNB Southeast Community Coffee Series \nJoin us for coffee and conversation as we gather for the first installment of Progressive Conservative Conversations in the Southeast region. \nThe focus of the event will be a speech by PCNB Interim Leader Glen Savoie on the opening of the New Brunswick Legislature and the direction and priorities of the Progressive Conservative caucus. \n  \nEVENT DETAILS \n📅 Saturday\, April 11 \n⏰ 9:00am to 9:45am\nSign-in • Coffee & Muffins • Networking \n⏰ 9:45am\nGuest Speaker Glen Savoie \n⏰ 10:10 to 10:30 AM\nDiscussion & Closing \n  \n💼 Would You Like to Join Our Team? \nContact Joanne Saulnier at: \n📧 info@pcnb.ca \n  \nLOCATION \n📍 Moncton Press Club \n📍 160 Assomption Blvd \n📍 Moncton\, NB \n  \nOPEN TO ALL • FREE TO ATTEND \nYou do not need to be a PCNB member to attend. \nWe welcome all who are interested in learning more about the Conservative vision for New Brunswick. \nCoffee and light refreshments will be provided.
URL:https://pcnb.ca/fr/event/progressive-conservative-conversations/
LOCATION:Monction Press Club\, 160 Assomption Blvd\, Moncton\, New Brunswick\, E1C 1A4\, Canada
ATTACH;FMTTYPE=image/jpeg:https://pcnb.ca/wp-content/uploads/2024/01/pc-logo.jpg
END:VEVENT
BEGIN:VEVENT
DTSTART;TZID=America/Moncton:20260411T140000
DTEND;TZID=America/Moncton:20260411T153000
DTSTAMP:20260422T043623
CREATED:20260309T120304Z
LAST-MODIFIED:20260309T120304Z
UID:4863-1775916000-1775921400@pcnb.ca
SUMMARY:Fundy-The Isles-Saint John Lorneville Annual Meeting
DESCRIPTION:📢 You are invited to participate in the Fundy-The Isles-Saint John Lorneville PC Association Annual Meeting. \nJoin us on April 11th\, as the Fundy-The Isles-Saint John Lorneville PC Association embarks on a new year and a new beginning! \n  \n🌟 What to Expect \nThis exciting event will feature our Annual Meeting\, where key positions—including President\, Vice President\, Second Vice President\, Secretary\, Treasurer\, and Board of Directors—will be nominated and voted upon. \n  \n🎤 Special Guest Speaker \nWe’re thrilled to announce that Interim Leader Glen Savoie will join us to deliver an inspiring address at the Annual Meeting. \n  \n💼 Would You Like to Join Our Team? \nIf you’re interested in putting your name forward for any of these positions\, please contact Joanne Saulnier at: \n📧 info@pcnb.ca \n  \n🌍 Get Involved! \nWe’re looking for passionate individuals ready to make a difference in our community outreach initiatives and help prepare for an impactful return in 2028. \nWe would like to send a special invitation to new Canadians\, young people and women with an interest in politics. \nIf you’re looking for an opportunity to get involved\, ask questions\, and have your voice heard\, we encourage you to join us. \nThis is a great chance to engage\, learn\, and contribute to meaningful discussions that shape our communities. \n  \n📅 Save the Date \n🗓️ April 11\, 2026 \n📍 Magaguadavic Place \n📍 11 JO Spinney Drive \n📍 St George \n⏰ 2:00pm Registration \n⏰ 2:30pm Annual Meeting Begins
URL:https://pcnb.ca/fr/event/fundy-the-isles-saint-john-lorneville-annual-meeting-2/
ATTACH;FMTTYPE=image/jpeg:https://pcnb.ca/wp-content/uploads/2024/01/pc-logo.jpg
END:VEVENT
BEGIN:VEVENT
DTSTART;TZID=America/Moncton:20260411T163000
DTEND;TZID=America/Moncton:20260411T190000
DTSTAMP:20260422T043623
CREATED:20260311T172311Z
LAST-MODIFIED:20260311T172311Z
UID:4867-1775925000-1775934000@pcnb.ca
SUMMARY:Albert Riverview Fundraiser
DESCRIPTION:📢 You Are Invited to the Albert-Riverview Fundraiser \nJoin us Saturday April 11th\, for a Fundraising Dinner with MLA Sherry Wilson. \n  \n🌟 What to Expect \nThis event is hosted by the Albert-Riverview PC Association. \nDinner will be Roast Beef. \n  \n🎤 Special Guest Speaker \nInterim Leader Glen Savoie. \n  \n 💼 Want to Join Us? \nBuy your tickets here or contact Joanne Saulnier: \n📧 info@pcnb.ca\n📞 (506) 453-3456 \nAll tickets must be purchased by individuals using personal funds. \n  \n📅 Save the Date \n🗓️ Saturday April 11 \n📍 Salisbury Legion \n📍 3317 Route 106\, Salisbury \n⏰ 4:30pm – 5:00pm Registration\, Meet & Greet \n⏰ 5:00pm Dinner \n  \nTICKETS
URL:https://pcnb.ca/fr/event/albert-riverview-fundraiser-3/
ATTACH;FMTTYPE=image/jpeg:https://pcnb.ca/wp-content/uploads/2024/01/pc-logo.jpg
END:VEVENT
END:VCALENDAR