BEGIN:VCALENDAR
VERSION:2.0
PRODID:-//PCNB- Progressive Conservative Party of New Brunswick - ECPv6.15.12.2//NONSGML v1.0//EN
CALSCALE:GREGORIAN
METHOD:PUBLISH
X-ORIGINAL-URL:https://pcnb.ca/fr
X-WR-CALDESC:Évènements pour PCNB- Progressive Conservative Party of New Brunswick
REFRESH-INTERVAL;VALUE=DURATION:PT1H
X-Robots-Tag:noindex
X-PUBLISHED-TTL:PT1H
BEGIN:VTIMEZONE
TZID:America/Moncton
BEGIN:DAYLIGHT
TZOFFSETFROM:-0400
TZOFFSETTO:-0300
TZNAME:ADT
DTSTART:20240310T060000
END:DAYLIGHT
BEGIN:STANDARD
TZOFFSETFROM:-0300
TZOFFSETTO:-0400
TZNAME:AST
DTSTART:20241103T050000
END:STANDARD
BEGIN:DAYLIGHT
TZOFFSETFROM:-0400
TZOFFSETTO:-0300
TZNAME:ADT
DTSTART:20250309T060000
END:DAYLIGHT
BEGIN:STANDARD
TZOFFSETFROM:-0300
TZOFFSETTO:-0400
TZNAME:AST
DTSTART:20251102T050000
END:STANDARD
BEGIN:DAYLIGHT
TZOFFSETFROM:-0400
TZOFFSETTO:-0300
TZNAME:ADT
DTSTART:20260308T060000
END:DAYLIGHT
BEGIN:STANDARD
TZOFFSETFROM:-0300
TZOFFSETTO:-0400
TZNAME:AST
DTSTART:20261101T050000
END:STANDARD
END:VTIMEZONE
BEGIN:VEVENT
DTSTART;TZID=America/Moncton:20251204T170000
DTEND;TZID=America/Moncton:20251204T190000
DTSTAMP:20260421T235448
CREATED:20251117T143151Z
LAST-MODIFIED:20251117T143240Z
UID:4809-1764867600-1764874800@pcnb.ca
SUMMARY:Wine and Cheese Reception hosted by Georgette Roy
DESCRIPTION:📢 Join us on Thursday December 4 for a Wine and Cheese Reception hosted by Georgette Roy. \nGeorgette is a long time supporter of PCNB\, and we would love to see you there! \nTickets are $50 \n  \n🎤 Special Guest Speaker \nWe’re thrilled to announce that Leader Glen Savoie will join us to deliver an inspiring address. \n  \n 💼 Would You Like to Join Our Team? \nBuy your tickets online here or contact Joanne Saulnier\, info@pcnb.ca / (506) 453-3456 \nAll tickets must be purchased by individuals using personal funds. \n  \n📅 Save the Date \n🗓️ Thursday December 4 \n📍 Private Residence\, Fredericton \n⏰ 5:00pm – 7:00pm
URL:https://pcnb.ca/fr/event/wine-and-cheese-reception-hosted-by-georgette-roy/
LOCATION:Private Residence\, Fredericton\, NB\, Canada
ATTACH;FMTTYPE=image/jpeg:https://pcnb.ca/wp-content/uploads/2024/01/pc-logo.jpg
END:VEVENT
BEGIN:VEVENT
DTSTART;TZID=America/Moncton:20251204T190000
DTEND;TZID=America/Moncton:20251204T210000
DTSTAMP:20260421T235448
CREATED:20251117T142324Z
LAST-MODIFIED:20251117T142324Z
UID:4806-1764874800-1764882000@pcnb.ca
SUMMARY:Victory Circle Reception
DESCRIPTION:Join us on Thursday December 4 for a Christmas Reception with PCNB Leader Glen Savoie. \nThis event is hosted by new PCNB President Norman Siebrasse and will be free for PCNB Victory Circle Members. \nTickets cost $150 and are available online through the link below\, or by contacting Joanne Saulnier via email info@pcnb.ca \nAll tickets must be purchased by individuals using personal funds and are eligible for a generous tax credit. \n  \n📅 Save the Date \n🗓️ Thursday December 4 \n📍 Private Residence\, Fredericton \n⏰ 7:00pm – 9:00pm \n  \nRSVP
URL:https://pcnb.ca/fr/event/victory-circle-reception/
LOCATION:Private Residence\, Fredericton\, NB\, Canada
ATTACH;FMTTYPE=image/jpeg:https://pcnb.ca/wp-content/uploads/2024/01/pc-logo.jpg
END:VEVENT
END:VCALENDAR