BEGIN:VCALENDAR
VERSION:2.0
PRODID:-//PCNB- Progressive Conservative Party of New Brunswick - ECPv6.15.12.2//NONSGML v1.0//EN
CALSCALE:GREGORIAN
METHOD:PUBLISH
X-WR-CALNAME:PCNB- Progressive Conservative Party of New Brunswick
X-ORIGINAL-URL:https://pcnb.ca/fr
X-WR-CALDESC:Évènements pour PCNB- Progressive Conservative Party of New Brunswick
REFRESH-INTERVAL;VALUE=DURATION:PT1H
X-Robots-Tag:noindex
X-PUBLISHED-TTL:PT1H
BEGIN:VTIMEZONE
TZID:America/Moncton
BEGIN:DAYLIGHT
TZOFFSETFROM:-0400
TZOFFSETTO:-0300
TZNAME:ADT
DTSTART:20240310T060000
END:DAYLIGHT
BEGIN:STANDARD
TZOFFSETFROM:-0300
TZOFFSETTO:-0400
TZNAME:AST
DTSTART:20241103T050000
END:STANDARD
BEGIN:DAYLIGHT
TZOFFSETFROM:-0400
TZOFFSETTO:-0300
TZNAME:ADT
DTSTART:20250309T060000
END:DAYLIGHT
BEGIN:STANDARD
TZOFFSETFROM:-0300
TZOFFSETTO:-0400
TZNAME:AST
DTSTART:20251102T050000
END:STANDARD
BEGIN:DAYLIGHT
TZOFFSETFROM:-0400
TZOFFSETTO:-0300
TZNAME:ADT
DTSTART:20260308T060000
END:DAYLIGHT
BEGIN:STANDARD
TZOFFSETFROM:-0300
TZOFFSETTO:-0400
TZNAME:AST
DTSTART:20261101T050000
END:STANDARD
END:VTIMEZONE
BEGIN:VEVENT
DTSTART;TZID=America/Moncton:20251025T090000
DTEND;TZID=America/Moncton:20251025T163000
DTSTAMP:20260421T213743
CREATED:20250903T172424Z
LAST-MODIFIED:20251020T200347Z
UID:4686-1761382800-1761409800@pcnb.ca
SUMMARY:Annual Meeting
DESCRIPTION:The Progressive Conservative Party of New Brunswick will hold its Annual Meeting on October 25\, 2025\, at 9:00 a.m. at Delta Fredericton\, 225 Woodstock Road\, Fredericton.  The meeting is hosted by co-chairs Tanya Cloutier and Erika Hachey. \nThe Annual Meeting is open to all current PCNB members “Members” who register by October 20\, 2025\, and pay the registration fee of $99 \nThe process for submissions of proposed constitutional amendments “Amendments” can be done by any Party Member (see below). \n  \nProcess to Submit Proposed Constitutional Amendments (Individual Members) \n\nAny individual Member may submit an Amendment using the attached form: “Constitutional Amendment Form – Formulaire d’amendement constitutionnel”\nSubmissions must be sent to Chris McMorrow by email to info@pcnb.ca before 4:30 p.m.\, September 25\, 2025.\nAll Individual Member submissions will be forwarded to the Constitutional Revision Committee (CRC).\nThe CRC will review Amendments by September 26\, 2025\, and determine which Amendments are “in-order”.\nThe CRC will present all in-order Amendments to RDA Presidents for review and potential support by September 29\, 2025.\nEach RDA President will hold a meeting (can be virtual or in person) to decide whether the RDA will support or not support each individual Amendment.\nRDAs will submit their results to Chris McMorrow by email to info@pcnb.ca by October 11\, 2025.\nAmendments that have net positive support of five (5) RDAs will be presented at the Annual Meeting for those present to vote on;\n\nFor example\, if ten (10) ridings support an Amendment and four (4) ridings oppose it\, it WILL go to the Annual Meeting\, as it has a net positive of six (6); \nIf ten (10) ridings support an Amendment and six (6) ridings oppose it\, it WILL NOT go to the Annual Meeting\, as it has a net positive of four (4). \n\nThe final list of Amendments to be presented at the Annual Meeting will be published October 20\, 2025.\n\n 
URL:https://pcnb.ca/fr/event/annual-meeting/
LOCATION:Delta Fredericton\, 225 Woodstock Road\, Fredericton\, NB\, E3B 2H8\, Canada
ATTACH;FMTTYPE=image/jpeg:https://pcnb.ca/wp-content/uploads/2024/01/pc-logo.jpg
END:VEVENT
END:VCALENDAR