BEGIN:VCALENDAR
VERSION:2.0
PRODID:-//PCNB- Progressive Conservative Party of New Brunswick - ECPv6.15.12.2//NONSGML v1.0//EN
CALSCALE:GREGORIAN
METHOD:PUBLISH
X-ORIGINAL-URL:https://pcnb.ca/fr
X-WR-CALDESC:Évènements pour PCNB- Progressive Conservative Party of New Brunswick
REFRESH-INTERVAL;VALUE=DURATION:PT1H
X-Robots-Tag:noindex
X-PUBLISHED-TTL:PT1H
BEGIN:VTIMEZONE
TZID:America/Moncton
BEGIN:DAYLIGHT
TZOFFSETFROM:-0400
TZOFFSETTO:-0300
TZNAME:ADT
DTSTART:20240310T060000
END:DAYLIGHT
BEGIN:STANDARD
TZOFFSETFROM:-0300
TZOFFSETTO:-0400
TZNAME:AST
DTSTART:20241103T050000
END:STANDARD
BEGIN:DAYLIGHT
TZOFFSETFROM:-0400
TZOFFSETTO:-0300
TZNAME:ADT
DTSTART:20250309T060000
END:DAYLIGHT
BEGIN:STANDARD
TZOFFSETFROM:-0300
TZOFFSETTO:-0400
TZNAME:AST
DTSTART:20251102T050000
END:STANDARD
BEGIN:DAYLIGHT
TZOFFSETFROM:-0400
TZOFFSETTO:-0300
TZNAME:ADT
DTSTART:20260308T060000
END:DAYLIGHT
BEGIN:STANDARD
TZOFFSETFROM:-0300
TZOFFSETTO:-0400
TZNAME:AST
DTSTART:20261101T050000
END:STANDARD
END:VTIMEZONE
BEGIN:VEVENT
DTSTART;TZID=America/Moncton:20251018T163000
DTEND;TZID=America/Moncton:20251018T183000
DTSTAMP:20260421T213051
CREATED:20251001T141611Z
LAST-MODIFIED:20251002T143128Z
UID:4737-1760805000-1760812200@pcnb.ca
SUMMARY:Albert-Riverview Fundraiser
DESCRIPTION:📢 You Are Invited to the Albert-Riverview Fundraiser \nJoin us Saturday October 18th\, for a Fundraising Dinner with MLA Sherry Wilson. \n  \n🌟 What to Expect \nThis event is hosted by the Albert-Riverview PC Association.  Dinner will be a choice of Roast Beef or Lobster Stuffed Chicken. \nPlease email jessicaseely2@gmail.com to confirm your meal selection in advance. \n  \n 💼 Want to Join Us? \nBuy your tickets online or contact Joanne Saulnier\, info@pcnb.ca / (506) 453-3456 \nAll tickets must be purchased by individuals using personal funds. \n  \n📅 Save the Date \n🗓️ Saturday October 18th \n📍 Tides Restaurant\, 8601 Main Street\, Alma \n⏰ 4:30pm – 5:00pm Registration\, Meet & Greet \n⏰ 5:00pm Dinner \n  \nBuy Tickets
URL:https://pcnb.ca/fr/event/albert-riverview-fundraiser-2/
LOCATION:Tides Restaurant\, 8601 Main Street\, Alma\, NB\, Canada
ATTACH;FMTTYPE=image/jpeg:https://pcnb.ca/wp-content/uploads/2024/01/pc-logo.jpg
END:VEVENT
END:VCALENDAR