BEGIN:VCALENDAR
VERSION:2.0
PRODID:-//PCNB- Progressive Conservative Party of New Brunswick - ECPv6.15.12.2//NONSGML v1.0//EN
CALSCALE:GREGORIAN
METHOD:PUBLISH
X-ORIGINAL-URL:https://pcnb.ca/fr
X-WR-CALDESC:Évènements pour PCNB- Progressive Conservative Party of New Brunswick
REFRESH-INTERVAL;VALUE=DURATION:PT1H
X-Robots-Tag:noindex
X-PUBLISHED-TTL:PT1H
BEGIN:VTIMEZONE
TZID:America/Moncton
BEGIN:DAYLIGHT
TZOFFSETFROM:-0400
TZOFFSETTO:-0300
TZNAME:ADT
DTSTART:20240310T060000
END:DAYLIGHT
BEGIN:STANDARD
TZOFFSETFROM:-0300
TZOFFSETTO:-0400
TZNAME:AST
DTSTART:20241103T050000
END:STANDARD
BEGIN:DAYLIGHT
TZOFFSETFROM:-0400
TZOFFSETTO:-0300
TZNAME:ADT
DTSTART:20250309T060000
END:DAYLIGHT
BEGIN:STANDARD
TZOFFSETFROM:-0300
TZOFFSETTO:-0400
TZNAME:AST
DTSTART:20251102T050000
END:STANDARD
BEGIN:DAYLIGHT
TZOFFSETFROM:-0400
TZOFFSETTO:-0300
TZNAME:ADT
DTSTART:20260308T060000
END:DAYLIGHT
BEGIN:STANDARD
TZOFFSETFROM:-0300
TZOFFSETTO:-0400
TZNAME:AST
DTSTART:20261101T050000
END:STANDARD
END:VTIMEZONE
BEGIN:VEVENT
DTSTART;TZID=America/Moncton:20251016T180000
DTEND;TZID=America/Moncton:20251016T193000
DTSTAMP:20260421T213050
CREATED:20251006T105923Z
LAST-MODIFIED:20251006T105923Z
UID:4741-1760637600-1760643000@pcnb.ca
SUMMARY:Fredericton Grand-Lake Annual Meeting
DESCRIPTION:📢You are invited to participate in the Fredericton-Grand Lake PC Association Annual Meeting. \nJoin us on October 16th\, as the Fredericton-Grand Lake PC Association embarks on a new year and a new beginning! \n  \n🌟 What to Expect \nThis exciting event will feature our Annual Meeting\, where key positions—including President\, Vice President\, Second Vice President\, Secretary\, Treasurer\, and Board of Directors—will be nominated and voted upon. \n  \n💼 Would You Like to Join Our Team? \nIf you’re interested in putting your name forward for any of these positions\, please contact Joanne Saulnier at: 📧 info@pcnb.ca \n  \n📅 Save the Date \n🗓️ October 16 \n📍 Main & Park Community Centre \n📍 2 Park Street\, Minto\, NB \n⏰ 6:00pm Registration \n⏰ 6:30pm Annual Meeting Begins
URL:https://pcnb.ca/fr/event/fredericton-grand-lake-annual-meeting/
LOCATION:Main & Park Community Centre\, 2 Park Street\, Minto\, NB\, Canada
ATTACH;FMTTYPE=image/jpeg:https://pcnb.ca/wp-content/uploads/2024/01/pc-logo.jpg
END:VEVENT
END:VCALENDAR