BEGIN:VCALENDAR
VERSION:2.0
PRODID:-//PCNB- Progressive Conservative Party of New Brunswick - ECPv6.15.12.2//NONSGML v1.0//EN
CALSCALE:GREGORIAN
METHOD:PUBLISH
X-ORIGINAL-URL:https://pcnb.ca/fr
X-WR-CALDESC:Évènements pour PCNB- Progressive Conservative Party of New Brunswick
REFRESH-INTERVAL;VALUE=DURATION:PT1H
X-Robots-Tag:noindex
X-PUBLISHED-TTL:PT1H
BEGIN:VTIMEZONE
TZID:America/Moncton
BEGIN:DAYLIGHT
TZOFFSETFROM:-0400
TZOFFSETTO:-0300
TZNAME:ADT
DTSTART:20240310T060000
END:DAYLIGHT
BEGIN:STANDARD
TZOFFSETFROM:-0300
TZOFFSETTO:-0400
TZNAME:AST
DTSTART:20241103T050000
END:STANDARD
BEGIN:DAYLIGHT
TZOFFSETFROM:-0400
TZOFFSETTO:-0300
TZNAME:ADT
DTSTART:20250309T060000
END:DAYLIGHT
BEGIN:STANDARD
TZOFFSETFROM:-0300
TZOFFSETTO:-0400
TZNAME:AST
DTSTART:20251102T050000
END:STANDARD
BEGIN:DAYLIGHT
TZOFFSETFROM:-0400
TZOFFSETTO:-0300
TZNAME:ADT
DTSTART:20260308T060000
END:DAYLIGHT
BEGIN:STANDARD
TZOFFSETFROM:-0300
TZOFFSETTO:-0400
TZNAME:AST
DTSTART:20261101T050000
END:STANDARD
END:VTIMEZONE
BEGIN:VEVENT
DTSTART;TZID=America/Moncton:20250724T180000
DTEND;TZID=America/Moncton:20250724T210000
DTSTAMP:20260421T174718
CREATED:20250703T130129Z
LAST-MODIFIED:20250703T130129Z
UID:4655-1753380000-1753390800@pcnb.ca
SUMMARY:Miramichi West Nominating Convention
DESCRIPTION:We hope you can join us on July 24th for the Nominating Convention for Miramichi West. \n  \n📅 Save the Date \n🗓️ July 24\, 2025 \n📍 Doaktown Legion\, 8 Hamilton Drive\, Doaktown\, NB \n⏰ Registration: 6:00pm \n⏰ Meeting: 7:00pm \n⏰ Voting:  8:00pm \n  \nYou must be a party member by July 17\, 2025\, at 4:30 p.m. and meet the residency requirements in order to vote. (Photo identification is required.) \nWe’re excited to see you there! \nJoin the Party \n  \n 
URL:https://pcnb.ca/fr/event/miramichi-west-nominating-convention/
LOCATION:Doaktown Legion\, 8 Hamilton Drive\, Doaktown\, NB\, Canada
ATTACH;FMTTYPE=image/jpeg:https://pcnb.ca/wp-content/uploads/2023/12/pc-logo-6.jpg
END:VEVENT
END:VCALENDAR