BEGIN:VCALENDAR
VERSION:2.0
PRODID:-//PCNB- Progressive Conservative Party of New Brunswick - ECPv6.15.12.2//NONSGML v1.0//EN
CALSCALE:GREGORIAN
METHOD:PUBLISH
X-ORIGINAL-URL:https://pcnb.ca/fr
X-WR-CALDESC:Évènements pour PCNB- Progressive Conservative Party of New Brunswick
REFRESH-INTERVAL;VALUE=DURATION:PT1H
X-Robots-Tag:noindex
X-PUBLISHED-TTL:PT1H
BEGIN:VTIMEZONE
TZID:America/Moncton
BEGIN:DAYLIGHT
TZOFFSETFROM:-0400
TZOFFSETTO:-0300
TZNAME:ADT
DTSTART:20240310T060000
END:DAYLIGHT
BEGIN:STANDARD
TZOFFSETFROM:-0300
TZOFFSETTO:-0400
TZNAME:AST
DTSTART:20241103T050000
END:STANDARD
BEGIN:DAYLIGHT
TZOFFSETFROM:-0400
TZOFFSETTO:-0300
TZNAME:ADT
DTSTART:20250309T060000
END:DAYLIGHT
BEGIN:STANDARD
TZOFFSETFROM:-0300
TZOFFSETTO:-0400
TZNAME:AST
DTSTART:20251102T050000
END:STANDARD
BEGIN:DAYLIGHT
TZOFFSETFROM:-0400
TZOFFSETTO:-0300
TZNAME:ADT
DTSTART:20260308T060000
END:DAYLIGHT
BEGIN:STANDARD
TZOFFSETFROM:-0300
TZOFFSETTO:-0400
TZNAME:AST
DTSTART:20261101T050000
END:STANDARD
END:VTIMEZONE
BEGIN:VEVENT
DTSTART;TZID=America/Moncton:20250623T190000
DTEND;TZID=America/Moncton:20250623T203000
DTSTAMP:20260421T162716
CREATED:20250623T130525Z
LAST-MODIFIED:20250623T130525Z
UID:4653-1750705200-1750710600@pcnb.ca
SUMMARY:Hanwell-New Maryland Annual Meeting
DESCRIPTION:📢You are invited to participate in the Hanwell-New Maryland PC Association Annual Meeting. \nJoin us on Monday June 23rd\, as the Hanwell-New Maryland PC Association embarks on a new year and a new beginning! \n  \n📅 Save the Date \n🗓️ Monday June 23 \n📍 Victoria Hall \n📍 466 New Maryland Highway \n📍 New Maryland\, NB \n⏰ 7:00-7:30 PM Registration and Meet & Greet \n⏰ 7:30 PM Annual Meeting Begins \n 
URL:https://pcnb.ca/fr/event/hanwell-new-maryland-annual-meeting/
ATTACH;FMTTYPE=image/jpeg:https://pcnb.ca/wp-content/uploads/2023/12/pc-logo-6.jpg
END:VEVENT
END:VCALENDAR