BEGIN:VCALENDAR
VERSION:2.0
PRODID:-//PCNB- Progressive Conservative Party of New Brunswick - ECPv6.15.12.2//NONSGML v1.0//EN
CALSCALE:GREGORIAN
METHOD:PUBLISH
X-WR-CALNAME:PCNB- Progressive Conservative Party of New Brunswick
X-ORIGINAL-URL:https://pcnb.ca/fr
X-WR-CALDESC:Évènements pour PCNB- Progressive Conservative Party of New Brunswick
REFRESH-INTERVAL;VALUE=DURATION:PT1H
X-Robots-Tag:noindex
X-PUBLISHED-TTL:PT1H
BEGIN:VTIMEZONE
TZID:America/Moncton
BEGIN:DAYLIGHT
TZOFFSETFROM:-0400
TZOFFSETTO:-0300
TZNAME:ADT
DTSTART:20240310T060000
END:DAYLIGHT
BEGIN:STANDARD
TZOFFSETFROM:-0300
TZOFFSETTO:-0400
TZNAME:AST
DTSTART:20241103T050000
END:STANDARD
BEGIN:DAYLIGHT
TZOFFSETFROM:-0400
TZOFFSETTO:-0300
TZNAME:ADT
DTSTART:20250309T060000
END:DAYLIGHT
BEGIN:STANDARD
TZOFFSETFROM:-0300
TZOFFSETTO:-0400
TZNAME:AST
DTSTART:20251102T050000
END:STANDARD
BEGIN:DAYLIGHT
TZOFFSETFROM:-0400
TZOFFSETTO:-0300
TZNAME:ADT
DTSTART:20260308T060000
END:DAYLIGHT
BEGIN:STANDARD
TZOFFSETFROM:-0300
TZOFFSETTO:-0400
TZNAME:AST
DTSTART:20261101T050000
END:STANDARD
END:VTIMEZONE
BEGIN:VEVENT
DTSTART;TZID=America/Moncton:20250618T153000
DTEND;TZID=America/Moncton:20250618T170000
DTSTAMP:20260421T162602
CREATED:20250612T164417Z
LAST-MODIFIED:20250612T164417Z
UID:4650-1750260600-1750266000@pcnb.ca
SUMMARY:Riverview Annual Meeting
DESCRIPTION:Join us on Wednesday June 18th\, as the Riverview PC Association embarks on a new year and a new beginning! \n🌟 What to Expect \nThis exciting event will feature our Annual Meeting\, where key positions—including President\, Vice President\, Second Vice President\, Secretary\, Treasurer\, and Board of Directors—will be nominated and voted upon. \n  \n💼 Would You Like to Join Our Team? \nIf you’re interested in putting your name forward for any of these positions\, please contact Joanne Saulnier at: \n📧 info@pcnb.ca \n  \n🎤 Special Guest Speaker \nWe’re thrilled to announce that Interim Leader Glen Savoie will join us to deliver an inspiring address at the Annual Meeting. \n  \n📅 Save the Date \n🗓️ Wednesday June 18 \n📍 13-567 Coverdale Road \n📍 Riverview\, NB \n⏰ 3:30-4:00 PM Registration and Meet & Greet \n⏰ 4:00 PM Annual Meeting Begins
URL:https://pcnb.ca/fr/event/riverview-annual-meeting/
ATTACH;FMTTYPE=image/jpeg:https://pcnb.ca/wp-content/uploads/2023/12/pc-logo-6.jpg
END:VEVENT
END:VCALENDAR