BEGIN:VCALENDAR
VERSION:2.0
PRODID:-//PCNB- Progressive Conservative Party of New Brunswick - ECPv6.15.12.2//NONSGML v1.0//EN
CALSCALE:GREGORIAN
METHOD:PUBLISH
X-ORIGINAL-URL:https://pcnb.ca/fr
X-WR-CALDESC:Évènements pour PCNB- Progressive Conservative Party of New Brunswick
REFRESH-INTERVAL;VALUE=DURATION:PT1H
X-Robots-Tag:noindex
X-PUBLISHED-TTL:PT1H
BEGIN:VTIMEZONE
TZID:America/Moncton
BEGIN:DAYLIGHT
TZOFFSETFROM:-0400
TZOFFSETTO:-0300
TZNAME:ADT
DTSTART:20230312T060000
END:DAYLIGHT
BEGIN:STANDARD
TZOFFSETFROM:-0300
TZOFFSETTO:-0400
TZNAME:AST
DTSTART:20231105T050000
END:STANDARD
BEGIN:DAYLIGHT
TZOFFSETFROM:-0400
TZOFFSETTO:-0300
TZNAME:ADT
DTSTART:20240310T060000
END:DAYLIGHT
BEGIN:STANDARD
TZOFFSETFROM:-0300
TZOFFSETTO:-0400
TZNAME:AST
DTSTART:20241103T050000
END:STANDARD
BEGIN:DAYLIGHT
TZOFFSETFROM:-0400
TZOFFSETTO:-0300
TZNAME:ADT
DTSTART:20250309T060000
END:DAYLIGHT
BEGIN:STANDARD
TZOFFSETFROM:-0300
TZOFFSETTO:-0400
TZNAME:AST
DTSTART:20251102T050000
END:STANDARD
END:VTIMEZONE
BEGIN:VEVENT
DTSTART;TZID=America/Moncton:20240828T180000
DTEND;TZID=America/Moncton:20240828T200000
DTSTAMP:20260421T084230
CREATED:20240803T091827Z
LAST-MODIFIED:20240826T184930Z
UID:2987-1724868000-1724875200@pcnb.ca
SUMMARY:Bathurst Nominating Convention
DESCRIPTION:August 28\, 2024\n\n\n\nBathurst Marina\n1555 Queen Elizabeth Dr\nBathurst\, NB\nE2A 4Y4\n\n\n\n\nRegistration: 6:00pm \nMeeting: 6:30pm \nVoting:  7:00pm \n\n  \nYou must be a party member by August 21\, 2024\, at 4:30 p.m. and meet the residency requirements in order to vote. (Photo identification is required.)
URL:https://pcnb.ca/fr/event/bathurst-nominating-convention/
LOCATION:Bathurst Marina\, 1555 Queen Elizabeth Dr\, Bathurst\, NB\, Canada
ATTACH;FMTTYPE=image/jpeg:https://pcnb.ca/wp-content/uploads/2024/01/pc-logo.jpg
END:VEVENT
BEGIN:VEVENT
DTSTART;TZID=America/Moncton:20240828T180000
DTEND;TZID=America/Moncton:20240828T203000
DTSTAMP:20260421T084230
CREATED:20240807T215421Z
LAST-MODIFIED:20240826T185226Z
UID:2993-1724868000-1724877000@pcnb.ca
SUMMARY:Saint John Harbour Nominating Convention
DESCRIPTION:August 28\, 2024\n\n\n\n\nAssumption Centre\n721 Chapel St\nSaint John\, NB\nE2M 2K3\n\n\n\n\n\nRegistration: 6:00pm \nMeeting: 7:00pm \nVoting:  7:30pm \n\n  \nYou must be a party member by August 21\, 2024\, at 4:30 p.m. and meet the residency requirements in order to vote. (Photo identification is required.)
URL:https://pcnb.ca/fr/event/saint-john-harbour-nominating-convention/
LOCATION:Assumption Centre\, 721 Chapel St\, Saint John\, NB\, Canada
ATTACH;FMTTYPE=image/jpeg:https://pcnb.ca/wp-content/uploads/2024/01/pc-logo.jpg
END:VEVENT
END:VCALENDAR