BEGIN:VCALENDAR
VERSION:2.0
PRODID:-//PCNB- Progressive Conservative Party of New Brunswick - ECPv6.15.12.2//NONSGML v1.0//EN
CALSCALE:GREGORIAN
METHOD:PUBLISH
X-WR-CALNAME:PCNB- Progressive Conservative Party of New Brunswick
X-ORIGINAL-URL:https://pcnb.ca/fr
X-WR-CALDESC:Évènements pour PCNB- Progressive Conservative Party of New Brunswick
REFRESH-INTERVAL;VALUE=DURATION:PT1H
X-Robots-Tag:noindex
X-PUBLISHED-TTL:PT1H
BEGIN:VTIMEZONE
TZID:America/Moncton
BEGIN:DAYLIGHT
TZOFFSETFROM:-0400
TZOFFSETTO:-0300
TZNAME:ADT
DTSTART:20230312T060000
END:DAYLIGHT
BEGIN:STANDARD
TZOFFSETFROM:-0300
TZOFFSETTO:-0400
TZNAME:AST
DTSTART:20231105T050000
END:STANDARD
BEGIN:DAYLIGHT
TZOFFSETFROM:-0400
TZOFFSETTO:-0300
TZNAME:ADT
DTSTART:20240310T060000
END:DAYLIGHT
BEGIN:STANDARD
TZOFFSETFROM:-0300
TZOFFSETTO:-0400
TZNAME:AST
DTSTART:20241103T050000
END:STANDARD
BEGIN:DAYLIGHT
TZOFFSETFROM:-0400
TZOFFSETTO:-0300
TZNAME:ADT
DTSTART:20250309T060000
END:DAYLIGHT
BEGIN:STANDARD
TZOFFSETFROM:-0300
TZOFFSETTO:-0400
TZNAME:AST
DTSTART:20251102T050000
END:STANDARD
END:VTIMEZONE
BEGIN:VEVENT
DTSTART;TZID=America/Moncton:20240709T173000
DTEND;TZID=America/Moncton:20240709T200000
DTSTAMP:20260421T112058
CREATED:20240614T174245Z
LAST-MODIFIED:20240614T174245Z
UID:2398-1720546200-1720555200@pcnb.ca
SUMMARY:Fredericton Lincoln Nominating Convention
DESCRIPTION:We hope you can join us on July 9th\, for the Nominating Convention for Fredericton Lincoln. \n  \nJuly 9th\, 2024\nKnights of Columbus Hall \n170 Regent Street \nFredericton\, NB \nE3B 3W7 \n  \nRegistration: 5:30pm \nMeeting: 6:30pm \nVoting:  7:00pm \n  \nYou must be a party member by July 2nd\, 2024\, at 4:30pm and meet the residency requirements in order to vote. (Photo identification is required.)
URL:https://pcnb.ca/fr/event/fredericton-lincoln-nominating-convention/
LOCATION:Knight’s of Columbus Hall Fredericton\, 170 Regent Street\, Fredericton\, NB\, E3B 3W7\, Canada
ATTACH;FMTTYPE=image/jpeg:https://pcnb.ca/wp-content/uploads/2024/01/pc-logo.jpg
END:VEVENT
END:VCALENDAR