BEGIN:VCALENDAR
VERSION:2.0
PRODID:-//PCNB- Progressive Conservative Party of New Brunswick - ECPv6.15.12.2//NONSGML v1.0//EN
CALSCALE:GREGORIAN
METHOD:PUBLISH
X-WR-CALNAME:PCNB- Progressive Conservative Party of New Brunswick
X-ORIGINAL-URL:https://pcnb.ca/fr
X-WR-CALDESC:Évènements pour PCNB- Progressive Conservative Party of New Brunswick
REFRESH-INTERVAL;VALUE=DURATION:PT1H
X-Robots-Tag:noindex
X-PUBLISHED-TTL:PT1H
BEGIN:VTIMEZONE
TZID:America/Moncton
BEGIN:DAYLIGHT
TZOFFSETFROM:-0400
TZOFFSETTO:-0300
TZNAME:ADT
DTSTART:20230312T060000
END:DAYLIGHT
BEGIN:STANDARD
TZOFFSETFROM:-0300
TZOFFSETTO:-0400
TZNAME:AST
DTSTART:20231105T050000
END:STANDARD
BEGIN:DAYLIGHT
TZOFFSETFROM:-0400
TZOFFSETTO:-0300
TZNAME:ADT
DTSTART:20240310T060000
END:DAYLIGHT
BEGIN:STANDARD
TZOFFSETFROM:-0300
TZOFFSETTO:-0400
TZNAME:AST
DTSTART:20241103T050000
END:STANDARD
BEGIN:DAYLIGHT
TZOFFSETFROM:-0400
TZOFFSETTO:-0300
TZNAME:ADT
DTSTART:20250309T060000
END:DAYLIGHT
BEGIN:STANDARD
TZOFFSETFROM:-0300
TZOFFSETTO:-0400
TZNAME:AST
DTSTART:20251102T050000
END:STANDARD
END:VTIMEZONE
BEGIN:VEVENT
DTSTART;TZID=America/Moncton:20240626T180000
DTEND;TZID=America/Moncton:20240626T203000
DTSTAMP:20260421T122424
CREATED:20240610T153939Z
LAST-MODIFIED:20240610T153939Z
UID:2320-1719424800-1719433800@pcnb.ca
SUMMARY:Notice of PC Women Annual Meeting
DESCRIPTION:Wednesday June 26\, 2024\nAnnual Meeting: 6:00pm\nReception: 7:00pm\nGuest Speaker: Hon. Blaine Higgs\n  \nWhere: \n58 Waterloo Row \nFredericton\, NB \n  \nPrice:\n$40 per person\nBuy tickets online here
URL:https://pcnb.ca/fr/event/notice-of-pc-women-annual-meeting/
LOCATION:Private Residence\, Fredericton\, NB\, Canada
ATTACH;FMTTYPE=image/jpeg:https://pcnb.ca/wp-content/uploads/2024/01/pc-logo.jpg
END:VEVENT
END:VCALENDAR