BEGIN:VCALENDAR
VERSION:2.0
PRODID:-//PCNB- Progressive Conservative Party of New Brunswick - ECPv6.15.12.2//NONSGML v1.0//EN
CALSCALE:GREGORIAN
METHOD:PUBLISH
X-WR-CALNAME:PCNB- Progressive Conservative Party of New Brunswick
X-ORIGINAL-URL:https://pcnb.ca/fr
X-WR-CALDESC:Évènements pour PCNB- Progressive Conservative Party of New Brunswick
REFRESH-INTERVAL;VALUE=DURATION:PT1H
X-Robots-Tag:noindex
X-PUBLISHED-TTL:PT1H
BEGIN:VTIMEZONE
TZID:America/Moncton
BEGIN:DAYLIGHT
TZOFFSETFROM:-0400
TZOFFSETTO:-0300
TZNAME:ADT
DTSTART:20230312T060000
END:DAYLIGHT
BEGIN:STANDARD
TZOFFSETFROM:-0300
TZOFFSETTO:-0400
TZNAME:AST
DTSTART:20231105T050000
END:STANDARD
BEGIN:DAYLIGHT
TZOFFSETFROM:-0400
TZOFFSETTO:-0300
TZNAME:ADT
DTSTART:20240310T060000
END:DAYLIGHT
BEGIN:STANDARD
TZOFFSETFROM:-0300
TZOFFSETTO:-0400
TZNAME:AST
DTSTART:20241103T050000
END:STANDARD
BEGIN:DAYLIGHT
TZOFFSETFROM:-0400
TZOFFSETTO:-0300
TZNAME:ADT
DTSTART:20250309T060000
END:DAYLIGHT
BEGIN:STANDARD
TZOFFSETFROM:-0300
TZOFFSETTO:-0400
TZNAME:AST
DTSTART:20251102T050000
END:STANDARD
END:VTIMEZONE
BEGIN:VEVENT
DTSTART;TZID=America/Moncton:20240615T093000
DTEND;TZID=America/Moncton:20240615T140000
DTSTAMP:20260421T122425
CREATED:20240514T130847Z
LAST-MODIFIED:20240514T130847Z
UID:2288-1718443800-1718460000@pcnb.ca
SUMMARY:Saint John West-Lancaster Nominating Convention
DESCRIPTION:We hope you can join us on June 15th for the Nominating Convention for Saint John West-Lancaster. \n  \nJune 15\, 2024\nRoyal Canadian Legion #69 \n714 Wilson Street \nSaint John\, NB \nE2M 3V2 \n  \nRegistration: 9:30am \nMeeting: 10:30am \nVoting:  11:30am \n  \nYou must be a party member by June 8th\, 2024\, at 4:30pm and meet the residency requirements in order to vote. (Photo identification is required.)
URL:https://pcnb.ca/fr/event/saint-john-west-lancaster-nominating-convention/
LOCATION:Royal Canadian Legion #69\, 714 Wilson Street\, Saint John\, NB\, E2M 3V2\, Canada
ATTACH;FMTTYPE=image/jpeg:https://pcnb.ca/wp-content/uploads/2024/01/pc-logo.jpg
END:VEVENT
BEGIN:VEVENT
DTSTART;TZID=America/Moncton:20240615T170000
DTEND;TZID=America/Moncton:20240615T200000
DTSTAMP:20260421T122425
CREATED:20240522T124315Z
LAST-MODIFIED:20240614T172006Z
UID:2297-1718470800-1718481600@pcnb.ca
SUMMARY:Saint Croix Fundraiser
DESCRIPTION:SOLD OUT!\nSaint Croix Progressive Conservative Association and Kathy Bockus\, MLA Invite you to a Fundraiser Dinner\nGuest Speaker\, Hon. Mike Holland \nMinister of Natural Resources and Energy Development \nMinister of Indigenous Affairs \n  \nRoast Beef Dinner and Pie Auction \n\n\n\nWhen: \nJune 15\, 2024 \nReception: 5:00pm \nDinner 6:00pm \nPie Auction 7:00pm \n  \nWhere: \n\nRoyal Canadian Legion #9 \n43 Queen Street West \nSt. Stephen\, NB \nE3L 2K2 \n\n  \n\nAuthorized by / Autorisé par:\nOfficial Representative for / Représentant officiel pour:\nSaint Croix Progressive Conservative Association\nAssociation progressiste-conservateur de Sainte-Croix
URL:https://pcnb.ca/fr/event/saint-croix-fundraiser/
LOCATION:Royal Canadian Legion #9\, 43 Queen Street West\, St. Stephen\, NB\, E3L 2K2\, Canada
ATTACH;FMTTYPE=image/jpeg:https://pcnb.ca/wp-content/uploads/2024/01/pc-logo.jpg
END:VEVENT
END:VCALENDAR