BEGIN:VCALENDAR
VERSION:2.0
PRODID:-//PCNB- Progressive Conservative Party of New Brunswick - ECPv6.15.12.2//NONSGML v1.0//EN
CALSCALE:GREGORIAN
METHOD:PUBLISH
X-ORIGINAL-URL:https://pcnb.ca
X-WR-CALDESC:Events for PCNB- Progressive Conservative Party of New Brunswick
REFRESH-INTERVAL;VALUE=DURATION:PT1H
X-Robots-Tag:noindex
X-PUBLISHED-TTL:PT1H
BEGIN:VTIMEZONE
TZID:America/Moncton
BEGIN:DAYLIGHT
TZOFFSETFROM:-0400
TZOFFSETTO:-0300
TZNAME:ADT
DTSTART:20250309T060000
END:DAYLIGHT
BEGIN:STANDARD
TZOFFSETFROM:-0300
TZOFFSETTO:-0400
TZNAME:AST
DTSTART:20251102T050000
END:STANDARD
BEGIN:DAYLIGHT
TZOFFSETFROM:-0400
TZOFFSETTO:-0300
TZNAME:ADT
DTSTART:20260308T060000
END:DAYLIGHT
BEGIN:STANDARD
TZOFFSETFROM:-0300
TZOFFSETTO:-0400
TZNAME:AST
DTSTART:20261101T050000
END:STANDARD
BEGIN:DAYLIGHT
TZOFFSETFROM:-0400
TZOFFSETTO:-0300
TZNAME:ADT
DTSTART:20270314T060000
END:DAYLIGHT
BEGIN:STANDARD
TZOFFSETFROM:-0300
TZOFFSETTO:-0400
TZNAME:AST
DTSTART:20271107T050000
END:STANDARD
END:VTIMEZONE
BEGIN:VEVENT
DTSTART;TZID=America/Moncton:20260209T190000
DTEND;TZID=America/Moncton:20260209T200000
DTSTAMP:20260422T000153
CREATED:20260209T155747Z
LAST-MODIFIED:20260209T155747Z
UID:4836-1770663600-1770667200@pcnb.ca
SUMMARY:Carleton-Victoria PC Association Annual Meeting
DESCRIPTION:📢 You are invited to participate in the Carleton-Victoria PC Association Annual Meeting. \nJoin us on February 9th\, as the Carleton-Victoria PC Association embarks on a new year and a new beginning! \n  \n🌟 What to Expect \nThis exciting event will feature our Annual Meeting\, where key positions—including President\, Vice President\, Second Vice President\, Secretary\, Treasurer\, and Board of Directors—will be nominated and voted upon. \n  \n🎤 Special Guest Speaker \nWe’re thrilled to announce that Interim Leader Glen Savoie will join us to deliver an inspiring address at the Annual Meeting. \n  \n💼 Would You Like to Join Our Team? \nIf you’re interested in putting your name forward for any of these positions\, please contact Joanne Saulnier at: \n📧 info@pcnb.ca \n  \n📅 Save the Date \n🗓️ February 9\, 2026 \n📍 Perth Elks Club \n📍 549 East Riverside Drive \n📍 Perth-Andover \n⏰ 7:00pm Registration \n⏰ 7:30pm Annual Meeting Begins
URL:https://pcnb.ca/event/carleton-victoria-pc-association-annual-meeting/
LOCATION:Perth Elks Lodge\, 549 East Riverside Drive\, Perth-Andover\, New Brunswick\, E7H 1Y4\, Canada
ATTACH;FMTTYPE=image/jpeg:https://pcnb.ca/wp-content/uploads/2024/01/pc-logo.jpg
END:VEVENT
BEGIN:VEVENT
DTSTART;TZID=America/Moncton:20260211T180000
DTEND;TZID=America/Moncton:20260211T200000
DTSTAMP:20260422T000153
CREATED:20260114T171852Z
LAST-MODIFIED:20260114T171852Z
UID:4834-1770832800-1770840000@pcnb.ca
SUMMARY:Fredericton South-Silverwood PC Association Annual Meeting
DESCRIPTION:📢 You are invited to participate in the Fredericton South-Silverwood PC Association Annual Meeting. \nJoin us on February 11th\, as the Fredericton South-Silverwood PC Association embarks on a new year and a new beginning! \n  \n🌟 What to Expect \nThis exciting event will feature our Annual Meeting\, where key positions—including President\, Vice President\, Second Vice President\, Secretary\, Treasurer\, and Board of Directors—will be nominated and voted upon. \n  \n🎤 Special Guest Speaker \nWe’re thrilled to announce that Interim Leader Glen Savoie will join us to deliver an inspiring address at the Annual Meeting. \n  \n💼 Would You Like to Join Our Team? \nIf you’re interested in putting your name forward for any of these positions\, please contact Joanne Saulnier at: \n📧 info@pcnb.ca \n  \n📅 Save the Date \n🗓️ February 11\, 2026 \n📍 Knights of Columbus \n📍 170 Regent Street \n📍 Fredericton \n⏰ 6:15pm Registration \n⏰ 6:30pm Annual Meeting Begins
URL:https://pcnb.ca/event/fredericton-south-silverwood-pc-association-annual-meeting/
LOCATION:Knight’s of Columbus Hall Fredericton\, 170 Regent Street\, Fredericton\, NB\, E3B 3W7\, Canada
ATTACH;FMTTYPE=image/jpeg:https://pcnb.ca/wp-content/uploads/2024/01/pc-logo.jpg
END:VEVENT
BEGIN:VEVENT
DTSTART;TZID=America/Moncton:20260212T190000
DTEND;TZID=America/Moncton:20260212T220000
DTSTAMP:20260422T000153
CREATED:20260112T180217Z
LAST-MODIFIED:20260112T180217Z
UID:4829-1770922800-1770933600@pcnb.ca
SUMMARY:Galentines Night February 12\, 2026
DESCRIPTION:This event is hosted by Tanya Cloutier\, President of the New Brunswick Progressive Conservative Women’s Association. \nTickets cost $30 and are available online through the link below\, or by contacting Joanne Saulnier via email info@pcnb.ca \nAll tickets must be purchased by individuals using personal funds and are eligible for a generous tax credit. \n  \n📅 Save the Date \n🗓️ Thursday February 12 \n📍 Cross Creek Brewing \n📍 553 Main Street\, Woodstock \n⏰ 7:00pm – 10:00pm \n  \nBuy Tickets
URL:https://pcnb.ca/event/galentines-night-february-12-2026/
LOCATION:Cross Creek Brewing\, 553\, rue Main Street\, Woodstock\, NB\, Canada
ATTACH;FMTTYPE=image/jpeg:https://pcnb.ca/wp-content/uploads/2024/01/pc-logo.jpg
END:VEVENT
BEGIN:VEVENT
DTSTART;TZID=America/Moncton:20260222T143000
DTEND;TZID=America/Moncton:20260222T160000
DTSTAMP:20260422T000153
CREATED:20260211T111509Z
LAST-MODIFIED:20260211T111509Z
UID:4846-1771770600-1771776000@pcnb.ca
SUMMARY:Miramichi West PC Association Annual Meeting
DESCRIPTION:📢 You are invited to participate in the Miramichi West PC Association Annual Meeting. \nJoin us on February 22nd\, as the Miramichi West PC Association embarks on a new year and a new beginning! \n  \n🌟 What to Expect \nThis exciting event will feature our Annual Meeting\, where key positions—including President\, Vice President\, Second Vice President\, Secretary\, Treasurer\, and Board of Directors—will be nominated and voted upon. \n  \n💼 Would You Like to Join Our Team? \nIf you’re interested in putting your name forward for any of these positions\, please contact Joanne Saulnier at: \n📧 info@pcnb.ca \n  \n🌍 Get Involved! \nWe’re looking for passionate individuals ready to make a difference in our community outreach initiatives and help prepare for an impactful return in 2028. \nWe would like to send a special invitation to new Canadians\, young people and women with an interest in politics. \nIf you’re looking for an opportunity to get involved\, ask questions\, and have your voice heard\, we encourage you to join us. \nThis is a great chance to engage\, learn\, and contribute to meaningful discussions that shape our communities. \n  \n📅 Save the Date \n🗓️ February 22\, 2026 \n📍 Miramichi Lions Club \n📍 6438 Route 8 \n📍 Boiestown \n⏰ 2:30pm Registration \n⏰ 3:00pm Annual Meeting Begins \n  \n⚡ Not a Member? No Problem! \nYou must be a Party Member to vote\, but membership sign-ups will be available at the meeting. \nWe’re excited to see you there!
URL:https://pcnb.ca/event/miramichi-west-pc-association-annual-meeting/
LOCATION:Miramichi Lions Club\, 6438 Route 8\, Boiestown\, NB\, Canada
ATTACH;FMTTYPE=image/jpeg:https://pcnb.ca/wp-content/uploads/2024/01/pc-logo.jpg
END:VEVENT
END:VCALENDAR