BEGIN:VCALENDAR
VERSION:2.0
PRODID:-//PCNB- Progressive Conservative Party of New Brunswick - ECPv6.15.12.2//NONSGML v1.0//EN
CALSCALE:GREGORIAN
METHOD:PUBLISH
X-ORIGINAL-URL:https://pcnb.ca
X-WR-CALDESC:Events for PCNB- Progressive Conservative Party of New Brunswick
REFRESH-INTERVAL;VALUE=DURATION:PT1H
X-Robots-Tag:noindex
X-PUBLISHED-TTL:PT1H
BEGIN:VTIMEZONE
TZID:America/Moncton
BEGIN:DAYLIGHT
TZOFFSETFROM:-0400
TZOFFSETTO:-0300
TZNAME:ADT
DTSTART:20240310T060000
END:DAYLIGHT
BEGIN:STANDARD
TZOFFSETFROM:-0300
TZOFFSETTO:-0400
TZNAME:AST
DTSTART:20241103T050000
END:STANDARD
BEGIN:DAYLIGHT
TZOFFSETFROM:-0400
TZOFFSETTO:-0300
TZNAME:ADT
DTSTART:20250309T060000
END:DAYLIGHT
BEGIN:STANDARD
TZOFFSETFROM:-0300
TZOFFSETTO:-0400
TZNAME:AST
DTSTART:20251102T050000
END:STANDARD
BEGIN:DAYLIGHT
TZOFFSETFROM:-0400
TZOFFSETTO:-0300
TZNAME:ADT
DTSTART:20260308T060000
END:DAYLIGHT
BEGIN:STANDARD
TZOFFSETFROM:-0300
TZOFFSETTO:-0400
TZNAME:AST
DTSTART:20261101T050000
END:STANDARD
END:VTIMEZONE
BEGIN:VEVENT
DTSTART;TZID=America/Moncton:20251003T173000
DTEND;TZID=America/Moncton:20251003T200000
DTSTAMP:20260421T190616
CREATED:20250807T151133Z
LAST-MODIFIED:20250807T151133Z
UID:4680-1759512600-1759521600@pcnb.ca
SUMMARY:Woodstock-Hartland Fundraiser
DESCRIPTION:📢 You Are Invited to the Woodstock-Hartland Fundraiser \nJoin us Friday October 3rd\, for a Fundraising Dinner with Guest Speaker\, MLA Margaret Johnson. \nTickets are $40 each \n  \n🌟 What to Expect \nThis event is hosted by the Woodstock-Hartland PC Association.  Dinner will be followed by a live auction. \n  \n 💼 Want to Join Us? \nBuy your tickets online here or contact Joanne Saulnier\, info@pcnb.ca / (506) 453-3456 \nAll tickets must be purchased by individuals using personal funds \n  \n📅 Save the Date \n🗓️ Friday October 3rd \n📍 Woodstock Y’s Men’s Club\, 145 Connell Park Road\, Woodstock \n⏰ 5:30 – 6:30 PM Registration\, Meet & Greet \n⏰ 6:30 PM Dinner \n  \nBuy Tickets
URL:https://pcnb.ca/event/woodstock-hartland-fundraiser/
LOCATION:Woodstock Y’s Men’s Club\, 145 Connell Park Road\, Woodstock\, NB\, Canada
ATTACH;FMTTYPE=image/jpeg:https://pcnb.ca/wp-content/uploads/2024/01/pc-logo.jpg
END:VEVENT
BEGIN:VEVENT
DTSTART;TZID=America/Moncton:20251004T160000
DTEND;TZID=America/Moncton:20251004T190000
DTSTAMP:20260421T190616
CREATED:20250806T165132Z
LAST-MODIFIED:20250806T165132Z
UID:4671-1759593600-1759604400@pcnb.ca
SUMMARY:Carleton-York Fundraiser
DESCRIPTION:📢 You Are Invited to the Carleton-York Fundraiser \nJoin us on Saturday October 4th\, for a Fundraising Dinner with Guest Speaker\, PCNB Leader Glen Savoie \n  \n🌟 What to Expect \nThis event is hosted by the Carleton-York PC Association.  Dinner will be roast chicken with dessert followed by a live auction. \n  \n 💼 Want to Join Us? \nTickets cost $45 each \nBuy your tickets online here or contact Joanne Saulnier\, info@pcnb.ca / (506) 453-3456 \nAll tickets must be purchased by individuals using personal funds. \n  \n📅 Save the Date \n🗓️ Saturday October 4th \n📍 Nackawic Lion’s Club\, 134 Otis Drive\, Nackawic \n⏰ 4:00 – 5:00 PM Registration\, Meet & Greet \n⏰ 5:00 PM Dinner \n  \nBUY YOUR TICKETS NOW
URL:https://pcnb.ca/event/carleton-york-fundraiser/
LOCATION:Nackawic Lions Club\, 134 Otis Drive\, Nackawic\, NB\, Canada
ATTACH;FMTTYPE=image/jpeg:https://pcnb.ca/wp-content/uploads/2024/01/pc-logo.jpg
END:VEVENT
BEGIN:VEVENT
DTSTART;TZID=America/Moncton:20251016T180000
DTEND;TZID=America/Moncton:20251016T193000
DTSTAMP:20260421T190616
CREATED:20251006T105923Z
LAST-MODIFIED:20251006T105923Z
UID:4741-1760637600-1760643000@pcnb.ca
SUMMARY:Fredericton Grand-Lake Annual Meeting
DESCRIPTION:📢You are invited to participate in the Fredericton-Grand Lake PC Association Annual Meeting. \nJoin us on October 16th\, as the Fredericton-Grand Lake PC Association embarks on a new year and a new beginning! \n  \n🌟 What to Expect \nThis exciting event will feature our Annual Meeting\, where key positions—including President\, Vice President\, Second Vice President\, Secretary\, Treasurer\, and Board of Directors—will be nominated and voted upon. \n  \n💼 Would You Like to Join Our Team? \nIf you’re interested in putting your name forward for any of these positions\, please contact Joanne Saulnier at: 📧 info@pcnb.ca \n  \n📅 Save the Date \n🗓️ October 16 \n📍 Main & Park Community Centre \n📍 2 Park Street\, Minto\, NB \n⏰ 6:00pm Registration \n⏰ 6:30pm Annual Meeting Begins
URL:https://pcnb.ca/event/fredericton-grand-lake-annual-meeting/
LOCATION:Main & Park Community Centre\, 2 Park Street\, Minto\, NB\, Canada
ATTACH;FMTTYPE=image/jpeg:https://pcnb.ca/wp-content/uploads/2024/01/pc-logo.jpg
END:VEVENT
BEGIN:VEVENT
DTSTART;TZID=America/Moncton:20251018T163000
DTEND;TZID=America/Moncton:20251018T183000
DTSTAMP:20260421T190616
CREATED:20251001T141611Z
LAST-MODIFIED:20251002T143128Z
UID:4737-1760805000-1760812200@pcnb.ca
SUMMARY:Albert-Riverview Fundraiser
DESCRIPTION:📢 You Are Invited to the Albert-Riverview Fundraiser \nJoin us Saturday October 18th\, for a Fundraising Dinner with MLA Sherry Wilson. \n  \n🌟 What to Expect \nThis event is hosted by the Albert-Riverview PC Association.  Dinner will be a choice of Roast Beef or Lobster Stuffed Chicken. \nPlease email jessicaseely2@gmail.com to confirm your meal selection in advance. \n  \n 💼 Want to Join Us? \nBuy your tickets online or contact Joanne Saulnier\, info@pcnb.ca / (506) 453-3456 \nAll tickets must be purchased by individuals using personal funds. \n  \n📅 Save the Date \n🗓️ Saturday October 18th \n📍 Tides Restaurant\, 8601 Main Street\, Alma \n⏰ 4:30pm – 5:00pm Registration\, Meet & Greet \n⏰ 5:00pm Dinner \n  \nBuy Tickets
URL:https://pcnb.ca/event/albert-riverview-fundraiser-2/
LOCATION:Tides Restaurant\, 8601 Main Street\, Alma\, NB\, Canada
ATTACH;FMTTYPE=image/jpeg:https://pcnb.ca/wp-content/uploads/2024/01/pc-logo.jpg
END:VEVENT
BEGIN:VEVENT
DTSTART;TZID=America/Moncton:20251019T160000
DTEND;TZID=America/Moncton:20251019T180000
DTSTAMP:20260421T190616
CREATED:20250917T195049Z
LAST-MODIFIED:20250918T185049Z
UID:4709-1760889600-1760896800@pcnb.ca
SUMMARY:Sussex-Three Rivers Fundraiser
DESCRIPTION:📢 You Are Invited to the Sussex-Three Rivers Fundraiser \nJoin us Sunday October 19th\, for a Fundraising Dinner with MLA Tammy Scott-Wallace. \n🌟 What to Expect \nThis event is hosted by the Sussex-Three Rivers PC Association.  Dinner will be Roast Beef followed by an Auction. \n🎤 Special Guest Speaker \nOur Guest Speaker will be PCNB Interim Leader Glen Savoie. \n 💼 Want to Join Us? \nBuy your tickets  or contact Joanne Saulnier\, info@pcnb.ca / (506) 453-3456 \nAll tickets must be purchased by individuals using personal funds. \n  \n📅 Save the Date \n🗓️ Sunday October 19th \n📍 Sussex Royal Canadian Legion\, 66 Magnolia Avenue\, Sussex \n⏰ 4:00pm – 4:30pm Registration\, Meet & Greet \n⏰ 4:30pm Dinner \n  \nBUY TICKETS
URL:https://pcnb.ca/event/sussex-three-rivers-fundraiser/
LOCATION:Sussex Legion\, 66 Magnolia Avenue\, Sussex\, Canada
ATTACH;FMTTYPE=image/jpeg:https://pcnb.ca/wp-content/uploads/2024/01/pc-logo.jpg
END:VEVENT
BEGIN:VEVENT
DTSTART;TZID=America/Moncton:20251022T180000
DTEND;TZID=America/Moncton:20251022T200000
DTSTAMP:20260421T190616
CREATED:20251017T110757Z
LAST-MODIFIED:20251017T110757Z
UID:4746-1761156000-1761163200@pcnb.ca
SUMMARY:Hampton-Fundy-St. Martins PC Association Annual Meeting
DESCRIPTION:📢 You are invited to participate in the Hampton-Fundy-St. Martins PC Association Annual Meeting. \nJoin us on October 22nd\, as the Hampton-Fundy-St. Martins PC Association embarks on a new year and a new beginning! \n🌟 What to Expect \nThis exciting event will feature our Annual Meeting\, where key positions—including President\, Vice President\, Second Vice President\, Secretary\, Treasurer\, and Board of Directors—will be nominated and voted upon. \n📅 Save the Date \n🗓️ October 22 \n📍 Masonic Hall \n📍 6 Church Street\, Hampton\, NB \n⏰ 6:00pm Registration \n⏰ 6:30pm Annual Meeting Begins
URL:https://pcnb.ca/event/hampton-fundy-st-martins-pc-association-annual-meeting/
LOCATION:Hampton Masonic Lodge\, 6 Church Street\, Hampton\, NB\, Canada
ATTACH;FMTTYPE=image/jpeg:https://pcnb.ca/wp-content/uploads/2024/01/pc-logo.jpg
END:VEVENT
BEGIN:VEVENT
DTSTART;TZID=America/Moncton:20251025T090000
DTEND;TZID=America/Moncton:20251025T163000
DTSTAMP:20260421T190616
CREATED:20250903T172424Z
LAST-MODIFIED:20251020T200347Z
UID:4686-1761382800-1761409800@pcnb.ca
SUMMARY:Annual Meeting
DESCRIPTION:The Progressive Conservative Party of New Brunswick will hold its Annual Meeting on October 25\, 2025\, at 9:00 a.m. at Delta Fredericton\, 225 Woodstock Road\, Fredericton.  The meeting is hosted by co-chairs Tanya Cloutier and Erika Hachey. \nThe Annual Meeting is open to all current PCNB members “Members” who register by October 20\, 2025\, and pay the registration fee of $99 \nThe process for submissions of proposed constitutional amendments “Amendments” can be done by any Party Member (see below). \n  \nProcess to Submit Proposed Constitutional Amendments (Individual Members) \n\nAny individual Member may submit an Amendment using the attached form: “Constitutional Amendment Form – Formulaire d’amendement constitutionnel”\nSubmissions must be sent to Chris McMorrow by email to info@pcnb.ca before 4:30 p.m.\, September 25\, 2025.\nAll Individual Member submissions will be forwarded to the Constitutional Revision Committee (CRC).\nThe CRC will review Amendments by September 26\, 2025\, and determine which Amendments are “in-order”.\nThe CRC will present all in-order Amendments to RDA Presidents for review and potential support by September 29\, 2025.\nEach RDA President will hold a meeting (can be virtual or in person) to decide whether the RDA will support or not support each individual Amendment.\nRDAs will submit their results to Chris McMorrow by email to info@pcnb.ca by October 11\, 2025.\nAmendments that have net positive support of five (5) RDAs will be presented at the Annual Meeting for those present to vote on;\n\nFor example\, if ten (10) ridings support an Amendment and four (4) ridings oppose it\, it WILL go to the Annual Meeting\, as it has a net positive of six (6); \nIf ten (10) ridings support an Amendment and six (6) ridings oppose it\, it WILL NOT go to the Annual Meeting\, as it has a net positive of four (4). \n\nThe final list of Amendments to be presented at the Annual Meeting will be published October 20\, 2025.\n\n 
URL:https://pcnb.ca/event/annual-meeting/
LOCATION:Delta Fredericton\, 225 Woodstock Road\, Fredericton\, NB\, E3B 2H8\, Canada
ATTACH;FMTTYPE=image/jpeg:https://pcnb.ca/wp-content/uploads/2024/01/pc-logo.jpg
END:VEVENT
END:VCALENDAR