BEGIN:VCALENDAR
VERSION:2.0
PRODID:-//PCNB- Progressive Conservative Party of New Brunswick - ECPv6.15.12.2//NONSGML v1.0//EN
CALSCALE:GREGORIAN
METHOD:PUBLISH
X-WR-CALNAME:PCNB- Progressive Conservative Party of New Brunswick
X-ORIGINAL-URL:https://pcnb.ca
X-WR-CALDESC:Events for PCNB- Progressive Conservative Party of New Brunswick
REFRESH-INTERVAL;VALUE=DURATION:PT1H
X-Robots-Tag:noindex
X-PUBLISHED-TTL:PT1H
BEGIN:VTIMEZONE
TZID:America/Moncton
BEGIN:DAYLIGHT
TZOFFSETFROM:-0400
TZOFFSETTO:-0300
TZNAME:ADT
DTSTART:20240310T060000
END:DAYLIGHT
BEGIN:STANDARD
TZOFFSETFROM:-0300
TZOFFSETTO:-0400
TZNAME:AST
DTSTART:20241103T050000
END:STANDARD
BEGIN:DAYLIGHT
TZOFFSETFROM:-0400
TZOFFSETTO:-0300
TZNAME:ADT
DTSTART:20250309T060000
END:DAYLIGHT
BEGIN:STANDARD
TZOFFSETFROM:-0300
TZOFFSETTO:-0400
TZNAME:AST
DTSTART:20251102T050000
END:STANDARD
BEGIN:DAYLIGHT
TZOFFSETFROM:-0400
TZOFFSETTO:-0300
TZNAME:ADT
DTSTART:20260308T060000
END:DAYLIGHT
BEGIN:STANDARD
TZOFFSETFROM:-0300
TZOFFSETTO:-0400
TZNAME:AST
DTSTART:20261101T050000
END:STANDARD
END:VTIMEZONE
BEGIN:VEVENT
DTSTART;TZID=America/Moncton:20250301T100000
DTEND;TZID=America/Moncton:20250301T120000
DTSTAMP:20260421T135852
CREATED:20250118T143259Z
LAST-MODIFIED:20250119T151957Z
UID:4361-1740823200-1740830400@pcnb.ca
SUMMARY:Kings Centre Annual Meeting
DESCRIPTION:We hope you can join us on March 1st for the Kings Centre PC Association Annual Meeting. \n\nThe Annual Meeting will commence at 10:30am. \n\nFor further information you may contact Jim Balcomb at jamesfredbalcomb@gmail.com / (506) 644-8681 \nGuest Speaker: Glen Savoie\, Interim Leader \n  \nMarch 1\, 2025 \nParish Hall (beside MacDonald Consolidated School) \n3946 Route 845 \nKingston\, NB \nE5N 1E9 \n  \n10:00am Reception \n10:30am Meeting \nYou must be a Party member to be eligible to vote \n  \nRSVP NOW\nor \nRSVP Jim Balcomb at jamesfredbalcomb@gmail.com / (506) 644-8681 to attend
URL:https://pcnb.ca/event/kings-centre-annual-meeting/
LOCATION:3946 Route 845\, 3946 Route 845\, Kingston\, NB\, E5N 1E9\, Canada
ATTACH;FMTTYPE=image/jpeg:https://pcnb.ca/wp-content/uploads/2023/12/pc-logo-6.jpg
END:VEVENT
BEGIN:VEVENT
DTSTART;TZID=America/Moncton:20250308T130000
DTEND;TZID=America/Moncton:20250308T160000
DTSTAMP:20260421T135852
CREATED:20250213T170415Z
LAST-MODIFIED:20250213T170415Z
UID:4438-1741438800-1741449600@pcnb.ca
SUMMARY:Miramichi Bay-Neguac - Annual Meeting
DESCRIPTION:📢 You’re Invited: Miramichi Bay-Neguac Riding Association Annual General Meeting \nJoin us on Saturday\, March 8\, as the Miramichi Bay-Neguac Riding Association embarks on a new year and a new beginning! \n  \n🌟 What to Expect \nThis exciting event will feature our Annual General Meeting (AGM)\, where key positions—including President\, Vice President\, Second Vice President\, Secretary\, Treasurer\, and Board of Directors—will be nominated and voted upon. \n  \n 💼 Want to Lead? \nIf you’re interested in putting your name forward for any of these positions\, please contact Joanne Saulnier at: \n📧 info@pcnb.ca \n  \n🌍 Get Involved \nWe’re looking for passionate individuals ready to make a difference in our community outreach initiatives and help prepare for an impactful return in 2028. \nWe would like to send a special invitation to young people and women with an interest in politics. \nIf you’re looking for an opportunity to get involved\, ask questions\, and have your voice heard\, we encourage you to join us. \nThis is a great chance to engage\, learn\, and contribute to meaningful discussions that shape our communities. \n  \n🎤 Special Guest Speaker \nWe’re thrilled to announce that Interim Leader Glen Savoie will join us to deliver an inspiring address at the AGM. \n  \n📅 Save the Date \n🗓️ Saturday\, March 8 \n📍 Seamen’s Hospital\, 12 Vye Street\, Miramichi\, NB \n⏰ 1:00 – 1:30 PM Registration & Meet & Greet \n⏰ 1:30 PM AGM Begins \n  \n⚡ Not a Member? No Problem! \nYou must be a Party Member to vote\, but membership sign-ups will be available at the meeting. \nWe’re excited to see you there! \nRSVP
URL:https://pcnb.ca/event/miramichi-bay-neguac-annual-meeting/
LOCATION:Seamen’s Hospital\, 12 Vye Street\, Miramichi\, New Brunswick\, E1V 5V3\, Canada
ATTACH;FMTTYPE=image/jpeg:https://pcnb.ca/wp-content/uploads/2023/12/pc-logo-6.jpg
END:VEVENT
BEGIN:VEVENT
DTSTART;TZID=America/Moncton:20250312T160000
DTEND;TZID=America/Moncton:20250312T190000
DTSTAMP:20260421T135852
CREATED:20250219T175140Z
LAST-MODIFIED:20250219T175140Z
UID:4467-1741795200-1741806000@pcnb.ca
SUMMARY:Leader's Reception
DESCRIPTION:📢 You’re Invited: Interim Leader’s Reception \nJoin us on Wednesday March 12th\, for a reception with PCNB Interim Leader Glen Savoie \n  \n🌟 What to Expect \nThis event is hosted by local MLAs Sherry Wilson\, Don Monahan and Rob Weir.  Guest speaker Glen Savoie “Path forward to Election 2028.” \nTickets are $200 \nFree for PCNB Victory Circle Members. \n  \n 💼 Want to Join Us? \nBuy your tickets online here or contact Joanne Saulnier\, info@pcnb.ca / (506) 453-3456 \nAll tickets must be purchased by individuals using personal funds. \n  \n📅 Save the Date \n🗓️ Wednesday March 12th \n📍 Alma City Club\, 114 Alma Street\, Moncton\, NB \n⏰ 4:00 – 7:00 PM \n  \nSincerely\, \nGlen Savoie\, MLA \nInterim Leader\, PCNB \n  \nRSVP
URL:https://pcnb.ca/event/leaders-reception/
LOCATION:Alma City Club / Club de Ville Alma\, 114 rue Alma Street\, Moncton\, NB\, Canada
ATTACH;FMTTYPE=image/jpeg:https://pcnb.ca/wp-content/uploads/2024/01/pc-logo.jpg
END:VEVENT
BEGIN:VEVENT
DTSTART;TZID=America/Moncton:20250315T100000
DTEND;TZID=America/Moncton:20250315T120000
DTSTAMP:20260421T135852
CREATED:20250129T195840Z
LAST-MODIFIED:20250129T195840Z
UID:4383-1742032800-1742040000@pcnb.ca
SUMMARY:Quispamsis - Annual Meeting
DESCRIPTION:📢 You’re Invited: Quispamsis Riding Association Annual General Meeting \nJoin us on Saturday\, March 15\, as the Quispamsis Riding Association embarks on a new year and a new beginning! \n🌟 What to Expect \nThis exciting event will feature our Annual General Meeting (AGM)\, where key positions—including President\, Vice President\, Second Vice President\, Secretary\, Treasurer\, and Board of Directors—will be nominated and voted upon. \n 💼 Want to Lead? \nIf you’re interested in putting your name forward for any of these positions\, please contact Mary Coxon at: \n📧 mrsklutz@gmail.com \n🌍 Get Involved \nWe’re looking for passionate individuals ready to make a difference in our community outreach initiatives and help prepare for an impactful return in 2028. \n🎤 Special Guest Speaker \nWe’re thrilled to announce that Interim Leader Glen Savoie will join us to deliver an inspiring address at the AGM. \n📅 Save the Date \n🗓️ Saturday\, March 15 \n📍 qplex Arena\, 20 Randy Jones Way\, Quispamsis\, NB \n⏰ 10:00 – 10:30 AM Registration & Meet & Greet \n10:30 AM AGM Begins \n  \n⚡ Not a Member? No Problem! \nYou must be a Party Member to vote\, but membership sign-ups will be available at the meeting. \nWe’re excited to see you there! \nRSVP
URL:https://pcnb.ca/event/quispamsis-annual-meeting/
LOCATION:QPlex\, 20 Randy Jones Way\, Quispamsis\, NB\, E2E 0H2\, Canada
ATTACH;FMTTYPE=image/jpeg:https://pcnb.ca/wp-content/uploads/2023/12/pc-logo-6.jpg
END:VEVENT
BEGIN:VEVENT
DTSTART;TZID=America/Moncton:20250315T130000
DTEND;TZID=America/Moncton:20250315T150000
DTSTAMP:20260421T135852
CREATED:20250210T160508Z
LAST-MODIFIED:20250210T160508Z
UID:4427-1742043600-1742050800@pcnb.ca
SUMMARY:Miramichi East - Annual Meeting
DESCRIPTION:📢 You’re Invited: Miramichi East Riding Association Annual General Meeting \nJoin us on Saturday\, March 15\, as the Miramichi East Riding Association embarks on a new year and a new beginning! \n  \n🌟 What to Expect \nThis exciting event will feature our Annual General Meeting (AGM)\, where key positions—including President\, Vice President\, Second Vice President\, Secretary\, Treasurer\, and Board of Directors—will be nominated and voted upon. \n  \n 💼 Want to Lead? \nIf you’re interested in putting your name forward for any of these positions\, please contact Joanne Saulnier at: \n📧 info@pcnb.ca \n  \n🌍 Get Involved \nWe’re looking for passionate individuals ready to make a difference in our community outreach initiatives and help prepare for an impactful return in 2028. \nWe would like to send a special invitation to young people and women with an interest in politics. \nIf you’re looking for an opportunity to get involved\, ask questions\, and have your voice heard\, we encourage you to join us. \nThis is a great chance to engage\, learn\, and contribute to meaningful discussions that shape our communities. \n  \n📅 Save the Date \n🗓️ Saturday\, March 15 \n📍 Knights of Columbus\, 67 King Street\, Miramichi\, NB \n⏰ 1:00 – 1:30 PM Registration & Meet & Greet \n⏰ 1:30 PM AGM Begins \n  \n⚡ Not a Member? No Problem! \nYou must be a Party Member to vote\, but membership sign-ups will be available at the meeting. \nWe’re excited to see you there! \n  \nRSVP
URL:https://pcnb.ca/event/miramichi-east-annual-meeting/
LOCATION:Knights of Columbus\, 67 rue King Street\, Miramichi\, NB\, Canada
ATTACH;FMTTYPE=image/jpeg:https://pcnb.ca/wp-content/uploads/2023/12/pc-logo-6.jpg
END:VEVENT
BEGIN:VEVENT
DTSTART;TZID=America/Moncton:20250319T173000
DTEND;TZID=America/Moncton:20250319T193000
DTSTAMP:20260421T135852
CREATED:20250307T145839Z
LAST-MODIFIED:20250307T145839Z
UID:4473-1742405400-1742412600@pcnb.ca
SUMMARY:Fredericton Lincoln Annual Meeting
DESCRIPTION:{Français suivi} \n  \n📢 You’re Invited: Fredericton Lincoln Riding Association Annual General Meeting \nJoin us on Wednesday\, March 19\, as the Fredericton Lincoln Riding Association embarks on a new year and a new beginning! \n  \n🌟 What to Expect \nThis exciting event will feature our Annual General Meeting (AGM)\, where key positions—including President\, Vice President\, Second Vice President\, Secretary\, Treasurer\, and Board of Directors—will be nominated and voted upon. \n  \n 💼 Want to Lead? \nIf you’re interested in putting your name forward for any of these positions\, please contact Joanne Saulnier at: \n📧 info@pcnb.ca \n  \n🌍 Get Involved \nWe’re looking for passionate individuals ready to make a difference in our community outreach initiatives and help prepare for an impactful return in 2028. \nWe would like to send a special invitation to new Canadians\, young people and women with an interest in politics. \nIf you’re looking for an opportunity to get involved\, ask questions\, and have your voice heard\, we encourage you to join us. \nThis is a great chance to engage\, learn\, and contribute to meaningful discussions that shape our communities. \n  \n🎤 Special Guest Speaker \nWe’re thrilled to announce that Interim Leader Glen Savoie will join us to deliver an inspiring address at the AGM. \n  \n📅 Save the Date \n🗓️ Wednesday\, March 19 \n📍 Knights of Columbus Hall\, 170 Regent Street\, Fredericton\, NB \n⏰ 5:30 – 6:00 PM Registration & Meet & Greet \n⏰ 6:00 PM AGM Begins \n  \n⚡ Not a Member? No Problem! \nYou must be a Party Member to vote\, but membership sign-ups will be available at the meeting. \nWe’re excited to see you there! \nRSVP
URL:https://pcnb.ca/event/fredericton-lincoln-annual-meeting/
LOCATION:Knight’s of Columbus Hall Fredericton\, 170 Regent Street\, Fredericton\, NB\, E3B 3W7\, Canada
ATTACH;FMTTYPE=image/jpeg:https://pcnb.ca/wp-content/uploads/2023/12/pc-logo-6.jpg
END:VEVENT
BEGIN:VEVENT
DTSTART;TZID=America/Moncton:20250322T093000
DTEND;TZID=America/Moncton:20250322T113000
DTSTAMP:20260421T135852
CREATED:20250227T153811Z
LAST-MODIFIED:20250319T171358Z
UID:4391-1742635800-1742643000@pcnb.ca
SUMMARY:Fundy-The Isles-Saint John Lorneville Annual Meeting
DESCRIPTION:📢 You Are Invited to the Fundy-The Isles-Saint John Lorneville Riding Association Annual Meeting \nJoin us on Saturday\, March 22\, as the Fundy-The Isles-Saint John Lorneville Riding Association embarks on a new year and a new beginning! \n  \n🌟 What to Expect \nThis exciting event will feature our Annual Meeting\, where key positions—including President\, Vice President\, Second Vice President\, Secretary\, Treasurer\, and Board of Directors—will be nominated and voted upon. \n  \n 💼 Want to Join Our Team? \nIf you’re interested in putting your name forward for any of these positions\, please contact Joanne Saulnier at: \n📧 info@pcnb.ca \n  \n🌍 Get Involved! \nWe’re looking for passionate individuals ready to make a difference in our community outreach initiatives and help prepare for an impactful return in 2028. \nWe would like to send a special invitation to young people and women with an interest in politics. \nIf you’re looking for an opportunity to get involved\, ask questions\, and have your voice heard\, we encourage you to join us. \nThis is a great chance to engage\, learn\, and contribute to meaningful discussions that shape our communities. \n  \n🎤 Special Guest Speaker \nWe’re thrilled to announce that Interim Leader Glen Savoie will join us to deliver an inspiring address at the Annual Meeting. \n  \n📅 Save the Date \n🗓️ Saturday\, March 22 \n📍 Magaguadavic Place\, 11 J.O. Spinney Drive\, St George\, NB \n⏰ 9:30 – 10:00 AM Registration & Meet & Greet \n⏰ 10:00 AM AGM Begins \n  \n⚡ Not a Member? No Problem! \nYou must be a Party Member to vote\, but membership sign-ups will be available at the meeting. \nWe’re excited to see you there! \nRSVP
URL:https://pcnb.ca/event/fundy-the-isles-saint-john-lorneville-annual-meeting/
LOCATION:Magaguadavic Place\, 11 J.O. chemin Spinney Drive\, St George\, NB\, E5C 3J4\, Canada
ATTACH;FMTTYPE=image/jpeg:https://pcnb.ca/wp-content/uploads/2023/12/pc-logo-6.jpg
END:VEVENT
END:VCALENDAR