BEGIN:VCALENDAR
VERSION:2.0
PRODID:-//PCNB- Progressive Conservative Party of New Brunswick - ECPv6.15.12.2//NONSGML v1.0//EN
CALSCALE:GREGORIAN
METHOD:PUBLISH
X-WR-CALNAME:PCNB- Progressive Conservative Party of New Brunswick
X-ORIGINAL-URL:https://pcnb.ca
X-WR-CALDESC:Events for PCNB- Progressive Conservative Party of New Brunswick
REFRESH-INTERVAL;VALUE=DURATION:PT1H
X-Robots-Tag:noindex
X-PUBLISHED-TTL:PT1H
BEGIN:VTIMEZONE
TZID:America/Moncton
BEGIN:DAYLIGHT
TZOFFSETFROM:-0400
TZOFFSETTO:-0300
TZNAME:ADT
DTSTART:20230312T060000
END:DAYLIGHT
BEGIN:STANDARD
TZOFFSETFROM:-0300
TZOFFSETTO:-0400
TZNAME:AST
DTSTART:20231105T050000
END:STANDARD
BEGIN:DAYLIGHT
TZOFFSETFROM:-0400
TZOFFSETTO:-0300
TZNAME:ADT
DTSTART:20240310T060000
END:DAYLIGHT
BEGIN:STANDARD
TZOFFSETFROM:-0300
TZOFFSETTO:-0400
TZNAME:AST
DTSTART:20241103T050000
END:STANDARD
BEGIN:DAYLIGHT
TZOFFSETFROM:-0400
TZOFFSETTO:-0300
TZNAME:ADT
DTSTART:20250309T060000
END:DAYLIGHT
BEGIN:STANDARD
TZOFFSETFROM:-0300
TZOFFSETTO:-0400
TZNAME:AST
DTSTART:20251102T050000
END:STANDARD
END:VTIMEZONE
BEGIN:VTIMEZONE
TZID:America/Toronto
BEGIN:DAYLIGHT
TZOFFSETFROM:-0500
TZOFFSETTO:-0400
TZNAME:EDT
DTSTART:20230312T070000
END:DAYLIGHT
BEGIN:STANDARD
TZOFFSETFROM:-0400
TZOFFSETTO:-0500
TZNAME:EST
DTSTART:20231105T060000
END:STANDARD
BEGIN:DAYLIGHT
TZOFFSETFROM:-0500
TZOFFSETTO:-0400
TZNAME:EDT
DTSTART:20240310T070000
END:DAYLIGHT
BEGIN:STANDARD
TZOFFSETFROM:-0400
TZOFFSETTO:-0500
TZNAME:EST
DTSTART:20241103T060000
END:STANDARD
BEGIN:DAYLIGHT
TZOFFSETFROM:-0500
TZOFFSETTO:-0400
TZNAME:EDT
DTSTART:20250309T070000
END:DAYLIGHT
BEGIN:STANDARD
TZOFFSETFROM:-0400
TZOFFSETTO:-0500
TZNAME:EST
DTSTART:20251102T060000
END:STANDARD
END:VTIMEZONE
BEGIN:VTIMEZONE
TZID:America/Halifax
BEGIN:DAYLIGHT
TZOFFSETFROM:-0400
TZOFFSETTO:-0300
TZNAME:ADT
DTSTART:20230312T060000
END:DAYLIGHT
BEGIN:STANDARD
TZOFFSETFROM:-0300
TZOFFSETTO:-0400
TZNAME:AST
DTSTART:20231105T050000
END:STANDARD
BEGIN:DAYLIGHT
TZOFFSETFROM:-0400
TZOFFSETTO:-0300
TZNAME:ADT
DTSTART:20240310T060000
END:DAYLIGHT
BEGIN:STANDARD
TZOFFSETFROM:-0300
TZOFFSETTO:-0400
TZNAME:AST
DTSTART:20241103T050000
END:STANDARD
BEGIN:DAYLIGHT
TZOFFSETFROM:-0400
TZOFFSETTO:-0300
TZNAME:ADT
DTSTART:20250309T060000
END:DAYLIGHT
BEGIN:STANDARD
TZOFFSETFROM:-0300
TZOFFSETTO:-0400
TZNAME:AST
DTSTART:20251102T050000
END:STANDARD
END:VTIMEZONE
BEGIN:VEVENT
DTSTART;TZID=America/Moncton:20240615T170000
DTEND;TZID=America/Moncton:20240615T200000
DTSTAMP:20260419T153305
CREATED:20240522T124315Z
LAST-MODIFIED:20240614T172006Z
UID:2297-1718470800-1718481600@pcnb.ca
SUMMARY:Saint Croix Fundraiser
DESCRIPTION:SOLD OUT!\nSaint Croix Progressive Conservative Association and Kathy Bockus\, MLA Invite you to a Fundraiser Dinner\nGuest Speaker\, Hon. Mike Holland \nMinister of Natural Resources and Energy Development \nMinister of Indigenous Affairs \n  \nRoast Beef Dinner and Pie Auction \n\n\n\nWhen: \nJune 15\, 2024 \nReception: 5:00pm \nDinner 6:00pm \nPie Auction 7:00pm \n  \nWhere: \n\nRoyal Canadian Legion #9 \n43 Queen Street West \nSt. Stephen\, NB \nE3L 2K2 \n\n  \n\nAuthorized by / Autorisé par:\nOfficial Representative for / Représentant officiel pour:\nSaint Croix Progressive Conservative Association\nAssociation progressiste-conservateur de Sainte-Croix
URL:https://pcnb.ca/event/saint-croix-fundraiser/
LOCATION:Royal Canadian Legion #9\, 43 Queen Street West\, St. Stephen\, NB\, E3L 2K2\, Canada
ATTACH;FMTTYPE=image/jpeg:https://pcnb.ca/wp-content/uploads/2024/01/pc-logo.jpg
END:VEVENT
BEGIN:VEVENT
DTSTART;TZID=America/Moncton:20240615T093000
DTEND;TZID=America/Moncton:20240615T140000
DTSTAMP:20260419T153305
CREATED:20240514T130847Z
LAST-MODIFIED:20240514T130847Z
UID:2288-1718443800-1718460000@pcnb.ca
SUMMARY:Saint John West-Lancaster Nominating Convention
DESCRIPTION:We hope you can join us on June 15th for the Nominating Convention for Saint John West-Lancaster. \n  \nJune 15\, 2024\nRoyal Canadian Legion #69 \n714 Wilson Street \nSaint John\, NB \nE2M 3V2 \n  \nRegistration: 9:30am \nMeeting: 10:30am \nVoting:  11:30am \n  \nYou must be a party member by June 8th\, 2024\, at 4:30pm and meet the residency requirements in order to vote. (Photo identification is required.)
URL:https://pcnb.ca/event/saint-john-west-lancaster-nominating-convention/
LOCATION:Royal Canadian Legion #69\, 714 Wilson Street\, Saint John\, NB\, E2M 3V2\, Canada
ATTACH;FMTTYPE=image/jpeg:https://pcnb.ca/wp-content/uploads/2024/01/pc-logo.jpg
END:VEVENT
BEGIN:VEVENT
DTSTART;TZID=America/Moncton:20240614T183000
DTEND;TZID=America/Moncton:20240614T210000
DTSTAMP:20260419T153305
CREATED:20240509T174819Z
LAST-MODIFIED:20240509T174819Z
UID:2277-1718389800-1718398800@pcnb.ca
SUMMARY:Riverview Nominating Convention
DESCRIPTION:We hope you can join us on June 14th for the Nominating Convention for Riverview. \n  \nFriday June 14\, 2024\nRiverview Lions Community Centre \n701 Coverdale Road \nRiverview\, NB \nE1B 3L1 \n  \nRegistration: 6:30pm \nMeeting: 7:00pm \nVoting:  7:30pm \n  \nYou must be a party member by June 7th\, 2024\, at 4:30pm and meet the residency requirements in order to vote. (Photo identification is required.)
URL:https://pcnb.ca/event/riverview-nominating-convention/
LOCATION:Riverview Lions Community Centre\, 701 Coverdale Road\, Riverview\, NB\, E1B 3L1\, Canada
ATTACH;FMTTYPE=image/jpeg:https://pcnb.ca/wp-content/uploads/2024/01/pc-logo.jpg
END:VEVENT
BEGIN:VEVENT
DTSTART;TZID=America/Moncton:20240607T173000
DTEND;TZID=America/Moncton:20240607T200000
DTSTAMP:20260419T153305
CREATED:20240502T143947Z
LAST-MODIFIED:20240503T191101Z
UID:2238-1717781400-1717790400@pcnb.ca
SUMMARY:Carleton-Victoria PC Association Fundraiser
DESCRIPTION:Carleton-Victoria PC Association and Margaret Johnson\, MLA Invite you to a Fundraiser Dinner \nFriday June 7\, 2024 \nGuest Speaker\, Hon. Blaine Higgs \nDoors open at 5:30\, dinner at 6:30 \nCost: $40 \nTickets available online or by calling Wes McLean at 506-273-0227 \nPurchase Tickets Here
URL:https://pcnb.ca/event/carleton-victoria-pc-association-fundraiser/
LOCATION:NB
ATTACH;FMTTYPE=image/jpeg:https://pcnb.ca/wp-content/uploads/2024/01/pc-logo.jpg
END:VEVENT
BEGIN:VEVENT
DTSTART;TZID=America/Moncton:20240606T183000
DTEND;TZID=America/Moncton:20240606T210000
DTSTAMP:20260419T153305
CREATED:20240516T204940Z
LAST-MODIFIED:20240516T204940Z
UID:2293-1717698600-1717707600@pcnb.ca
SUMMARY:Fredericton South-Silverwood Nominating Convention
DESCRIPTION:We hope you can join us on June 6th for the Nominating Convention for Fredericton South-Silverwood. \n  \nJune 6\, 2024\nKnights of Columbus Hall \n170 Regent Street \nFredericton\, NB \nE3B 3W7 \n  \nRegistration: 6:30pm \nMeeting: 7:00pm \nVoting:  8:00pm \n  \nYou must be a party member by May 30th\, 2024\, at 4:30pm and meet the residency requirements in order to vote. (Photo identification is required.)
URL:https://pcnb.ca/event/fredericton-south-silverwood-nominating-convention/
LOCATION:Knight’s of Columbus Hall Fredericton\, 170 Regent Street\, Fredericton\, NB\, E3B 3W7\, Canada
ATTACH;FMTTYPE=image/jpeg:https://pcnb.ca/wp-content/uploads/2024/01/pc-logo.jpg
END:VEVENT
BEGIN:VEVENT
DTSTART;TZID=America/Moncton:20240601T093000
DTEND;TZID=America/Moncton:20240601T120000
DTSTAMP:20260419T153305
CREATED:20240510T162102Z
LAST-MODIFIED:20240510T162102Z
UID:2271-1717234200-1717243200@pcnb.ca
SUMMARY:Moncton Centre Nominating Convention
DESCRIPTION:We hope you can join us on June 1st for the Nominating Convention for Moncton Centre. \nJune 1\, 2024\n\nRoyal Canadian Legion #6\n100 War Veterans Ave\nMoncton\, NB\nE1C 0B3\n\nRegistration: 9:30am \nMeeting: 10:00am \nVoting:  11:00am \nYou must be a party member by May 25\, 2024\, at 4:30 p.m. and meet the residency requirements in order to vote. (Photo identification is required.)
URL:https://pcnb.ca/event/moncton-centre-nominating-convention/
LOCATION:Royal Canadian Legion #6\, 100 War Veterans Ave\, Moncton\, NB\, E1C 0B3\, Canada
ATTACH;FMTTYPE=image/jpeg:https://pcnb.ca/wp-content/uploads/2024/01/pc-logo.jpg
END:VEVENT
BEGIN:VEVENT
DTSTART;TZID=America/Toronto:20240525T110000
DTEND;TZID=America/Toronto:20240525T140000
DTSTAMP:20260419T153305
CREATED:20240504T182104Z
LAST-MODIFIED:20240504T182104Z
UID:2255-1716634800-1716645600@pcnb.ca
SUMMARY:Moncton East Nominating Convention
DESCRIPTION:May 25\, 2024 \nCrossman Community Centre/Kay Arena \n99 Wynwood Drive \nMoncton\, NB \nE1A 2M4 \n  \nRegistration: 11:00am \nMeeting: 11:30am \nVoting:  Noon \n  \nYou must be a party member by May 18\, 2024\, at 4:30 p.m. and meet the residency requirements in order to vote. (Photo identification is required.)
URL:https://pcnb.ca/event/moncton-east-nominating-convention/
LOCATION:Crossman Community Centre/Kay Arena\, 99 Wynwood Drive\, Moncton\, NB\, E1A 2M4\, Canada
ATTACH;FMTTYPE=image/jpeg:https://pcnb.ca/wp-content/uploads/2024/01/pc-logo.jpg
END:VEVENT
BEGIN:VEVENT
DTSTART;TZID=America/Halifax:20240511T133000
DTEND;TZID=America/Halifax:20240511T170000
DTSTAMP:20260419T153305
CREATED:20240417T173329Z
LAST-MODIFIED:20240417T173329Z
UID:2220-1715434200-1715446800@pcnb.ca
SUMMARY:Madawaska-Les-Lacs-Edmundston Nominating Convention
DESCRIPTION:May 11th 2024 \n  \nClub D’Âge D’Or Amitié \n227\, St-François St \nEdmundston\, NB \nE3V 1G1 \n  \nRegistration: 1:30 pm \nMeeting: 2:00 pm \nVoting: 2:30pm \n  \nSpecial Guest: \nPremier Blaine Higgs \nYou must be a party member by May 4\, 2024\, at 4:30 p.m. and meet the residency requirements in order to vote. (Photo identification is required.) \n 
URL:https://pcnb.ca/event/madawaska-les-lacs-edmundston-nominating-convention/
LOCATION:Club D’Âge D’Or Amitié\, 227\, rue St-François\, Edmundston\, NB\, E3V 1G1\, Canada
END:VEVENT
BEGIN:VEVENT
DTSTART;TZID=America/Toronto:20240502T180000
DTEND;TZID=America/Toronto:20240502T200000
DTSTAMP:20260419T153305
CREATED:20240404T122134Z
LAST-MODIFIED:20240404T122134Z
UID:2172-1714672800-1714680000@pcnb.ca
SUMMARY:Oromocto-Sunbury Fundraising Reception
DESCRIPTION:Wine and Light Appetizers \n6:00pm to 8:00pm \nHanson Art Gallery \nFrench Lake\, NB \n  \nGuest Speaker: Hon. Blaine Higgs \n  \nTickets $50 \nClick Here To Purchase Tickets \n 
URL:https://pcnb.ca/event/oromocto-sunbury-fundraising-reception/
LOCATION:Hanson Art Gallery\, 39 Morrow Road\, French Lake\, NB\, E2V4G9\, Canada
ATTACH;FMTTYPE=image/jpeg:https://pcnb.ca/wp-content/uploads/2024/01/pc-logo.jpg
END:VEVENT
BEGIN:VEVENT
DTSTART;TZID=America/Toronto:20240420T090000
DTEND;TZID=America/Toronto:20240420T120000
DTSTAMP:20260419T153305
CREATED:20240329T125933Z
LAST-MODIFIED:20240411T130143Z
UID:2147-1713603600-1713614400@pcnb.ca
SUMMARY:Hanwell-New Maryland Nominating Convention
DESCRIPTION:Hanwell-New Maryland Progressive Conservative Association \nNominating Convention \nApril 20\, 2024 \n  \nNew Maryland Centre \n754 New Maryland Highway \nNew Maryland\, NB \nE3C 2A9 \n  \nSpecial Guests: \nPremier Blaine Higgs \nHon. Kris Austin \n  \nRegistration:   9:00am \nMeeting:   10:00am \nVoting:   11:00am \n  \nYou must be a party member by April 13\, 2024 at 4:30pm and meet the residency requirements in order to vote. (Photo identification is required).
URL:https://pcnb.ca/event/hanwell-new-maryland-nominating-convention/
LOCATION:New Maryland Centre\, 754 New Maryland Highway\, New Maryland\, NB\, E3C 2A9\, Canada
ATTACH;FMTTYPE=image/jpeg:https://pcnb.ca/wp-content/uploads/2024/01/pc-logo.jpg
END:VEVENT
BEGIN:VEVENT
DTSTART;TZID=America/Moncton:20240419T173000
DTEND;TZID=America/Moncton:20240419T200000
DTSTAMP:20260419T153305
CREATED:20240227T175854Z
LAST-MODIFIED:20240315T130453Z
UID:2100-1713547800-1713556800@pcnb.ca
SUMMARY:Woodstock-Hartland Fundraising Dinner & Auction
DESCRIPTION:Woodstock Y’s Men’s Club \n145 Connell Park Road \nWoodstock\, NB \n  \n5:30pm – 6:30pm Meet & Greet \n6:30pm Dinner & Auction \n  \nTickets: $40 \n  \nClick Here to Buy Your Tickets \n  \nGuest Speaker: Hon. Richard Ames \n  \nContact Sharon Dow \n(506) 276-4486 \nsharon.d.dow@gmail.com \n 
URL:https://pcnb.ca/event/woodstock-hartland-fundraising-dinner-auction/
LOCATION:Woodstock Y’s Men’s Club\, 145 Connell Park Road\, Woodstock\, NB\, Canada
ATTACH;FMTTYPE=image/jpeg:https://pcnb.ca/wp-content/uploads/2023/12/Blue-Logo-3.jpg
END:VEVENT
BEGIN:VEVENT
DTSTART;TZID=America/Halifax:20240413T160000
DTEND;TZID=America/Halifax:20240413T190000
DTSTAMP:20260419T153305
CREATED:20240207T152843Z
LAST-MODIFIED:20240410T123106Z
UID:2056-1713024000-1713034800@pcnb.ca
SUMMARY:Fredericton-Grand Lake Fundraiser
DESCRIPTION:Doors Open 4:00pm \nReception 4:30pm \nRoast Beef Dinner 5:00pm \n  \nSpecial Guests: \nPremier Blaine Higgs \nMP Richard Bragdon \nMP Jake Stewart \n 
URL:https://pcnb.ca/event/fredericton-grand-lake-fundraiser/
LOCATION:Minto Senior’s Hall\, 11 O’Leary Lane\, Minto\, NB\, E4B 3M5\, Canada
ATTACH;FMTTYPE=image/jpeg:https://pcnb.ca/wp-content/uploads/2023/12/pc-logo-6.jpg
END:VEVENT
BEGIN:VEVENT
DTSTART;TZID=America/Moncton:20240406T100000
DTEND;TZID=America/Moncton:20240406T130000
DTSTAMP:20260419T153305
CREATED:20240305T171728Z
LAST-MODIFIED:20240306T170037Z
UID:2116-1712397600-1712408400@pcnb.ca
SUMMARY:Arcadia-Butternut Valley-Maple Hills Nominating Convention
DESCRIPTION:Royal Canadian Legion #86 \n4684 NB-880 Havelock\, NB \nE4Z 5L1 \nRegistration:   10:00am \nMeeting:   10:30am \nVoting:   11:30am   \n\n  \nSatellite Voting \n\nVoting:   11:30am – 12:30pm \n\n  \nLutz Mountain Meeting House \n\n3143 Mountain Road \n\nMoncton\, NB \n\nE1G 2X1 \n\n  \n\nRoyal Canadian Legion \n\n81 Tilley Road \n\nGagetown\, NB \n\nE5M 1B3 \n\n  \n\nYou must be a party member by March 30\, 2024 at 4:30pm and meet the residency requirements in order to vote. (Photo identification is required).
URL:https://pcnb.ca/event/arcadia-butternut-valley-maple-hills-nominating-convention/
LOCATION:Havelock Legion\, 4684 NB-880\, Havelock\, NB\, E4Z 5L1\, Canada
ATTACH;FMTTYPE=image/jpeg:https://pcnb.ca/wp-content/uploads/2023/12/Blue-Logo-3.jpg
END:VEVENT
BEGIN:VEVENT
DTSTART;TZID=America/Moncton:20240315T170000
DTEND;TZID=America/Moncton:20240315T220000
DTSTAMP:20260419T153305
CREATED:20240221T201722Z
LAST-MODIFIED:20240221T201722Z
UID:2088-1710522000-1710540000@pcnb.ca
SUMMARY:Leader's Dinner
DESCRIPTION:Join New Brunswick Progressive Conservative Party Leader Blaine Higgs and special guest Pierre Poilievre March 15! \nPurchase Tickets Here: \nhttps://www.leadersdinner.ca/?recruiter_id=10206
URL:https://pcnb.ca/event/leaders-dinner/
LOCATION:Saint John Trade & Convention Centre\, 1 Market Square\, Saint John\, NB\, Canada
ATTACH;FMTTYPE=image/jpeg:https://pcnb.ca/wp-content/uploads/2023/12/Blue-Logo-3.jpg
END:VEVENT
BEGIN:VEVENT
DTSTART;TZID=America/Halifax:20240311T180000
DTEND;TZID=America/Halifax:20240311T200000
DTSTAMP:20260419T153305
CREATED:20240217T140012Z
LAST-MODIFIED:20240217T190330Z
UID:2073-1710180000-1710187200@pcnb.ca
SUMMARY:Fredericton North Nominating Convention
DESCRIPTION:March 11\, 2024 \n  \nKillarney Lodge \n1600 St. Mary’s Street \nFredericton\, NB \nE3A 2R9 \n  \nRegistration: 6:00pm \nMeeting: 6:30pm \nVoting: 7:30pm \n  \nYou must be a party member by March 4\, 2024 at 4:30pm and meet the residency requirements in order to vote. (Photo identification is required).
URL:https://pcnb.ca/event/fredericton-north-nominating-convention/
LOCATION:Killarney Lodge\, 1600 St. Mary's Street\, Fredericton\, NB\, E3A 2R9\, Canada
ATTACH;FMTTYPE=image/jpeg:https://pcnb.ca/wp-content/uploads/2024/01/pc-logo.jpg
END:VEVENT
BEGIN:VEVENT
DTSTART;TZID=America/Halifax:20240310T140000
DTEND;TZID=America/Halifax:20240310T160000
DTSTAMP:20260419T153305
CREATED:20240217T195250Z
LAST-MODIFIED:20240217T195250Z
UID:2084-1710079200-1710086400@pcnb.ca
SUMMARY:Kent North Nominating Convention
DESCRIPTION:March 10\, 2024 \n  \nRexton Lion’s Club \n145 Main Street \nRexton\, NB \nE4W 2A6 \n  \nRegistration: 2:00pm \nMeeting: 2:30pm \nVoting: 3:30pm \n  \nYou must be a party member by March 3\, 2024 at 4:30pm and meet the residency requirements in order to vote. (Photo identification is required).
URL:https://pcnb.ca/event/kent-north-nominating-convention/
LOCATION:Rexton Lion’s Club\, 145 MainStreet\, Rexton\, NB\, E4W 2A6\, Canada
ATTACH;FMTTYPE=image/jpeg:https://pcnb.ca/wp-content/uploads/2024/01/pc-logo.jpg
END:VEVENT
BEGIN:VEVENT
DTSTART;TZID=America/Halifax:20240309T100000
DTEND;TZID=America/Halifax:20240309T123000
DTSTAMP:20260419T153305
CREATED:20240216T150011Z
LAST-MODIFIED:20240216T164705Z
UID:2065-1709978400-1709987400@pcnb.ca
SUMMARY:Moncton South Nominating Convention
DESCRIPTION:March 9\, 2024 \n  \nMoncton Press Club \n160 Assomption Blvd \nMoncton\, NB \nE1C 1A4 \n  \nRegistration: 10:00am \nMeeting: 10:30am \nVoting: 11:30am \n  \nYou must be a party member by March 2\, 2024 at 4:30pm and meet the residency requirements in order to vote. (Photo identification is required).
URL:https://pcnb.ca/event/moncton-south-nominating-convention/
LOCATION:Monction Press Club\, 160 Assomption Blvd\, Moncton\, New Brunswick\, E1C 1A4\, Canada
ATTACH;FMTTYPE=image/jpeg:https://pcnb.ca/wp-content/uploads/2024/01/pc-logo.jpg
END:VEVENT
END:VCALENDAR