BEGIN:VCALENDAR
VERSION:2.0
PRODID:-//PCNB- Progressive Conservative Party of New Brunswick - ECPv6.15.12.2//NONSGML v1.0//EN
CALSCALE:GREGORIAN
METHOD:PUBLISH
X-WR-CALNAME:PCNB- Progressive Conservative Party of New Brunswick
X-ORIGINAL-URL:https://pcnb.ca
X-WR-CALDESC:Events for PCNB- Progressive Conservative Party of New Brunswick
REFRESH-INTERVAL;VALUE=DURATION:PT1H
X-Robots-Tag:noindex
X-PUBLISHED-TTL:PT1H
BEGIN:VTIMEZONE
TZID:America/Moncton
BEGIN:DAYLIGHT
TZOFFSETFROM:-0400
TZOFFSETTO:-0300
TZNAME:ADT
DTSTART:20230312T060000
END:DAYLIGHT
BEGIN:STANDARD
TZOFFSETFROM:-0300
TZOFFSETTO:-0400
TZNAME:AST
DTSTART:20231105T050000
END:STANDARD
BEGIN:DAYLIGHT
TZOFFSETFROM:-0400
TZOFFSETTO:-0300
TZNAME:ADT
DTSTART:20240310T060000
END:DAYLIGHT
BEGIN:STANDARD
TZOFFSETFROM:-0300
TZOFFSETTO:-0400
TZNAME:AST
DTSTART:20241103T050000
END:STANDARD
BEGIN:DAYLIGHT
TZOFFSETFROM:-0400
TZOFFSETTO:-0300
TZNAME:ADT
DTSTART:20250309T060000
END:DAYLIGHT
BEGIN:STANDARD
TZOFFSETFROM:-0300
TZOFFSETTO:-0400
TZNAME:AST
DTSTART:20251102T050000
END:STANDARD
BEGIN:DAYLIGHT
TZOFFSETFROM:-0400
TZOFFSETTO:-0300
TZNAME:ADT
DTSTART:20260308T060000
END:DAYLIGHT
BEGIN:STANDARD
TZOFFSETFROM:-0300
TZOFFSETTO:-0400
TZNAME:AST
DTSTART:20261101T050000
END:STANDARD
END:VTIMEZONE
BEGIN:VTIMEZONE
TZID:America/Toronto
BEGIN:DAYLIGHT
TZOFFSETFROM:-0500
TZOFFSETTO:-0400
TZNAME:EDT
DTSTART:20230312T070000
END:DAYLIGHT
BEGIN:STANDARD
TZOFFSETFROM:-0400
TZOFFSETTO:-0500
TZNAME:EST
DTSTART:20231105T060000
END:STANDARD
BEGIN:DAYLIGHT
TZOFFSETFROM:-0500
TZOFFSETTO:-0400
TZNAME:EDT
DTSTART:20240310T070000
END:DAYLIGHT
BEGIN:STANDARD
TZOFFSETFROM:-0400
TZOFFSETTO:-0500
TZNAME:EST
DTSTART:20241103T060000
END:STANDARD
BEGIN:DAYLIGHT
TZOFFSETFROM:-0500
TZOFFSETTO:-0400
TZNAME:EDT
DTSTART:20250309T070000
END:DAYLIGHT
BEGIN:STANDARD
TZOFFSETFROM:-0400
TZOFFSETTO:-0500
TZNAME:EST
DTSTART:20251102T060000
END:STANDARD
END:VTIMEZONE
BEGIN:VEVENT
DTSTART;TZID=America/Moncton:20250128T183000
DTEND;TZID=America/Moncton:20250128T203000
DTSTAMP:20260421T174252
CREATED:20250114T135203Z
LAST-MODIFIED:20250114T135203Z
UID:4367-1738089000-1738096200@pcnb.ca
SUMMARY:Regional Meeting - Saint John-Charlotte
DESCRIPTION:We hope you can join us on January 28th for the Saint John-Charlotte PC Associations. \nHost: Paul Dempsey\, Regional Vice President \nGuest Speaker: Glen Savoie\, Interim Leader \nFor further information you may contact Joanne Saulnier\, info@pcnb.ca \n  \nJanuary 28\, 2025 \nUnion Club \n125 Germain Street \nSaint John\, NB \nE2L 4S4 \nMeeting: 6:30pm \nRSVP
URL:https://pcnb.ca/event/regional-meeting-saint-john-charlotte/
LOCATION:Union Club\, 125 Germain Street\, Saint John\, NB\, E2L 4S4\, Canada
ATTACH;FMTTYPE=image/jpeg:https://pcnb.ca/wp-content/uploads/2023/12/pc-logo-6.jpg
END:VEVENT
BEGIN:VEVENT
DTSTART;TZID=America/Moncton:20250125T130000
DTEND;TZID=America/Moncton:20250125T150000
DTSTAMP:20260421T174252
CREATED:20250117T122504Z
LAST-MODIFIED:20250117T122504Z
UID:4372-1737810000-1737817200@pcnb.ca
SUMMARY:Annual General Meeting and Interim Leader's Visit
DESCRIPTION:We hope you can join us on January 25th for the Interim Leader’s visit and the PCNB Madawaska-Les-Lacs-Edmundston Association’s Annual General Meeting. \nThe meeting will commence at 1:00pm. \nFor further information you may contact Joanne Saulnier\, info@pcnb.ca \nHost: PCNB Madawaska-Les-Lacs-Edmundston and Jean-Michel Michaud\, Regional Vice President \nGuest Speaker: Glen Savoie\, Interim Leader \nJanuary 25\, 2025 \nPattison Conference Room \nFour Points Edmundston \n100 Rice Street \nEdmundston\, NB \nE3V 1T4 \nMeeting: 1:00pm \n  \nRSVP
URL:https://pcnb.ca/event/annual-general-meeting-and-interim-leaders-visit/
LOCATION:Four Points by Sheraton Edmundston\, 100\, rue Rice\, Edmundston\, NB\, E3V 1T4\, Canada
ATTACH;FMTTYPE=image/jpeg:https://pcnb.ca/wp-content/uploads/2023/12/pc-logo-6.jpg
END:VEVENT
BEGIN:VEVENT
DTSTART;TZID=America/Moncton:20250118T133000
DTEND;TZID=America/Moncton:20250118T150000
DTSTAMP:20260421T174252
CREATED:20241219T133441Z
LAST-MODIFIED:20241219T133441Z
UID:4347-1737207000-1737212400@pcnb.ca
SUMMARY:Carleton-Victoria Annual Meeting
DESCRIPTION:January 18th\, 2025\nPerth Elks Club \n549 East Riverside Drive \nPerth-Andover\, NB \nE7H 1Y4 \nRegistration: 1:30pm \nMeeting: 2:00pm
URL:https://pcnb.ca/event/carleton-victoria-annual-meeting/
LOCATION:Perth Elks Lodge\, 549 East Riverside Drive\, Perth-Andover\, New Brunswick\, E7H 1Y4\, Canada
ATTACH;FMTTYPE=image/jpeg:https://pcnb.ca/wp-content/uploads/2024/01/pc-logo-1.jpg
END:VEVENT
BEGIN:VEVENT
DTSTART;TZID=America/Moncton:20241109T090000
DTEND;TZID=America/Moncton:20241109T160000
DTSTAMP:20260421T174252
CREATED:20241028T131010Z
LAST-MODIFIED:20241104T160046Z
UID:4229-1731142800-1731168000@pcnb.ca
SUMMARY:Annual Meeting / Assemblée Annuelle
DESCRIPTION:Join us for the PCNB Annual General Meeting in Fredericton\nNovember 9\, 2024\nDelta Hotel\, Fredericton \n  \nSoyez des nôtres pour l’Assemblée générale annuelle du PCNB à Fredericton\nLe 9 novembre 2024\nDelta Hotel\, Fredericton \n  \nDeadline for registration to vote at the Annual Meeting is November 4th at noon.  If you wish to offer for an executive position (Vice President\, Secretary\, Regional Vice Presidents) the deadline is November 3rd at noon. \nLa date limite d’inscription pour voter à l’assemblée annuelle est fixée au 4 novembre à midi.  Si vous souhaitez vous porter candidat à un poste de direction (Vice-président\, Secrétaire\, Vice-président régionaux)\, la date limite est fixée au 3 novembre à midi.
URL:https://pcnb.ca/event/annual-meeting-assemblee-annuelle/
LOCATION:Delta Fredericton\, 225 Woodstock Road\, Fredericton\, NB\, E3B 2H8\, Canada
END:VEVENT
BEGIN:VEVENT
DTSTART;TZID=America/Moncton:20240927T130000
DTEND;TZID=America/Moncton:20240927T133000
DTSTAMP:20260421T174252
CREATED:20240927T103113Z
LAST-MODIFIED:20240927T103113Z
UID:3698-1727442000-1727443800@pcnb.ca
SUMMARY:Shediac-Cap-Acadie Nominating Convention
DESCRIPTION:We hope you can join us on September 27\, for the Nominating Convention for Shediac-Cap-Acadie. \nThis meeting is for PCNB members\, and will be virtual.  Contact PCNB for login information.\n\n\nMeeting: 1:00 pm \nYou must be a party member by September 26\, 2024\, at 4:30 p.m. and meet the residency requirements in order to vote. (Photo identification is required.)
URL:https://pcnb.ca/event/shediac-cap-acadie-nominating-convention/
ATTACH;FMTTYPE=image/png:https://pcnb.ca/wp-content/uploads/2024/08/image-1.png
END:VEVENT
BEGIN:VEVENT
DTSTART;TZID=America/Moncton:20240927T120000
DTEND;TZID=America/Moncton:20240927T123000
DTSTAMP:20260421T174252
CREATED:20240926T121526Z
LAST-MODIFIED:20240926T121526Z
UID:3696-1727438400-1727440200@pcnb.ca
SUMMARY:Shippagan-Les-Îles Nominating Convention
DESCRIPTION:September 27\, 2024\n\nThis meeting is for PCNB members\, and will be virtual.\n\n\nPlease reply to this email for login information. \n\nMeeting: Noon \nYou must be a party member by September 26\, 2024\, at 4:30 p.m. and meet the residency requirements in order to vote. (Photo identification is required.)
URL:https://pcnb.ca/event/shippagan-les-iles-nominating-convention/
ATTACH;FMTTYPE=image/png:https://pcnb.ca/wp-content/uploads/2024/08/image-1.png
END:VEVENT
BEGIN:VEVENT
DTSTART;TZID=America/Moncton:20240926T170000
DTEND;TZID=America/Moncton:20240926T173000
DTSTAMP:20260421T174252
CREATED:20240926T121409Z
LAST-MODIFIED:20240926T121409Z
UID:3694-1727370000-1727371800@pcnb.ca
SUMMARY:Hautes-Terres-Nepisiguit Nominating Convention
DESCRIPTION:September 26\, 2024\n\nThis meeting is for PCNB members\, and will be virtual.\n\n\nPlease reply to this email for login information. \n\nMeeting: 5:00 pm \nYou must be a party member by September 26\, 2024\, at 4:30 p.m. and meet the residency requirements in order to vote. (Photo identification is required.)
URL:https://pcnb.ca/event/hautes-terres-nepisiguit-nominating-convention/
ATTACH;FMTTYPE=image/png:https://pcnb.ca/wp-content/uploads/2024/08/image-1.png
END:VEVENT
BEGIN:VEVENT
DTSTART;TZID=America/Moncton:20240923T183000
DTEND;TZID=America/Moncton:20240923T190000
DTSTAMP:20260421T174252
CREATED:20240923T124406Z
LAST-MODIFIED:20240923T124406Z
UID:3661-1727116200-1727118000@pcnb.ca
SUMMARY:Belle-Baie-Belledune Nomination
DESCRIPTION:September 23\, 2024\n\n\n\nThis meeting is for PCNB members\, and will be virtual. \nPlease reply to this email for login information. \n\n  \nMeeting: 6:30 pm \nYou must be a party member by September 23\, 2024\, at 4:30 p.m. and meet the residency requirements in order to vote. (Photo identification is required.)
URL:https://pcnb.ca/event/belle-baie-belledune-nomination/
ATTACH;FMTTYPE=image/png:https://pcnb.ca/wp-content/uploads/2024/08/image-1.png
END:VEVENT
BEGIN:VEVENT
DTSTART;TZID=America/Moncton:20240923T163000
DTEND;TZID=America/Moncton:20240923T163000
DTSTAMP:20260421T174252
CREATED:20240921T165331Z
LAST-MODIFIED:20240921T165331Z
UID:3649-1727109000-1727109000@pcnb.ca
SUMMARY:Tracadie Nominating Convention
DESCRIPTION:September 23\, 2024\n\n\n\nThis meeting is for PCNB members\, and will be virtual. \nPlease reply to this email for login information. \n\n\n  \nMeeting: 4:30 pm \nYou must be a party member by September 22\, 2024\, at 4:30 p.m. and meet the residency requirements in order to vote. (Photo identification is required.)
URL:https://pcnb.ca/event/tracadie-nominating-convention/
ATTACH;FMTTYPE=image/png:https://pcnb.ca/wp-content/uploads/2024/08/image-1.png
END:VEVENT
BEGIN:VEVENT
DTSTART;VALUE=DATE:20240923
DTEND;VALUE=DATE:20240924
DTSTAMP:20260421T174252
CREATED:20240923T214348Z
LAST-MODIFIED:20240925T000532Z
UID:3675-1727049600-1727135999@pcnb.ca
SUMMARY:Commitment 2  /  Engagement 2
DESCRIPTION:Disclosure Statement Concerning an Election Commitment\n(Transparency in Election Commitments Act\, S.N.B. 2018\, c.1\, ss.4 and 5)\n\nView Disclosure Statement – HST
URL:https://pcnb.ca/event/commitment-2-engagement-2/
END:VEVENT
BEGIN:VEVENT
DTSTART;TZID=America/Moncton:20240921T110000
DTEND;TZID=America/Moncton:20240921T150000
DTSTAMP:20260421T174252
CREATED:20240830T125744Z
LAST-MODIFIED:20240830T125744Z
UID:3196-1726916400-1726930800@pcnb.ca
SUMMARY:Edmundston-Vallée-des-Rivières Event
DESCRIPTION:Date: Saturday September 21 \nTime: 11:00am to 3:00pm \nLocation: 905 Victoria St \nBBQ – Free for all \nCome and chat with Roger Quimper: Candidate : Edmundston-Vallée-des-Rivières \nChapiteau \nMusic \nBenefit for the Bob Fyfe Foundation
URL:https://pcnb.ca/event/edmundston-vallee-des-rivieres-event/
LOCATION:Roger Quimper Event\, 905 rue Victoria\, Edmundston\, NB\, Canada
END:VEVENT
BEGIN:VEVENT
DTSTART;TZID=America/Moncton:20240919T180000
DTEND;TZID=America/Moncton:20240919T203000
DTSTAMP:20260421T174252
CREATED:20240919T193556Z
LAST-MODIFIED:20240919T193556Z
UID:3414-1726768800-1726777800@pcnb.ca
SUMMARY:Quispamsis Nominating Convention
DESCRIPTION:September 19\, 2024\n\nKings Valley Early Education Centre\n\n332 Hampton Rd\nQuispamsis\, NB\nE2E 4S9\n\n\n\nRegistration: 6:00pm\nMeeting: 7:00pm\nVoting:  8:00pm\n\nYou must be a party member by September 17\, 2024\, at 4:30 p.m. and meet the residency requirements in order to vote. (Photo identification is required.) \n  \n 
URL:https://pcnb.ca/event/quispamsis-nominating-convention/
LOCATION:Kings Valley Early Education Centre\, 332 Hampton Road\, Quispamsis\, NB\, E2E 4S9\, Canada
ATTACH;FMTTYPE=image/png:https://pcnb.ca/wp-content/uploads/2024/08/image-1.png
END:VEVENT
BEGIN:VEVENT
DTSTART;VALUE=DATE:20240919
DTEND;VALUE=DATE:20240920
DTSTAMP:20260421T174252
CREATED:20240923T174058Z
LAST-MODIFIED:20240925T000544Z
UID:3666-1726704000-1726790399@pcnb.ca
SUMMARY:Commitment 1  /  Engagement 1
DESCRIPTION:Disclosure Statement Concerning an Election Commitment (Transparency in Election Commitments Act\, S.N.B. 2018\, c.1\, ss.4 and 5)\nView Disclosure Statement (Scope of Practice)
URL:https://pcnb.ca/event/commitment-1-engagement-1/
END:VEVENT
BEGIN:VEVENT
DTSTART;TZID=America/Moncton:20240911T200000
DTEND;TZID=America/Moncton:20240911T203000
DTSTAMP:20260421T174252
CREATED:20240908T173439Z
LAST-MODIFIED:20240908T173439Z
UID:3228-1726084800-1726086600@pcnb.ca
SUMMARY:Champdoré-Irishtown Nominating Convention
DESCRIPTION:8:00pm\n\nThis meeting is for PCNB members\, and will be virtual.\n\n\nYou must be a party member by September 9\, 2024\, at 4:30 p.m. and meet the residency requirements in order to vote. (Photo identification is required.) \ninfo@pcnb.ca
URL:https://pcnb.ca/event/champdore-irishtown-nominating-convention/
END:VEVENT
BEGIN:VEVENT
DTSTART;TZID=America/Moncton:20240911T193000
DTEND;TZID=America/Moncton:20240911T200000
DTSTAMP:20260421T174252
CREATED:20240908T175114Z
LAST-MODIFIED:20240908T175114Z
UID:3247-1726083000-1726084800@pcnb.ca
SUMMARY:Tantramar Nominating Convention
DESCRIPTION:7:30pm \nThis meeting is for PCNB members\, and will be virtual. \nYou must be a party member by September 9\, 2024\, at 4:30 p.m. and meet the residency requirements in order to vote. (Photo identification is required.)
URL:https://pcnb.ca/event/tantramar-nominating-convention/
END:VEVENT
BEGIN:VEVENT
DTSTART;TZID=America/Moncton:20240911T190000
DTEND;TZID=America/Moncton:20240911T193000
DTSTAMP:20260421T174252
CREATED:20240908T173635Z
LAST-MODIFIED:20240908T174344Z
UID:3233-1726081200-1726083000@pcnb.ca
SUMMARY:Beausoleil-Grand-Bouctouche-Kent Nominating Convention
DESCRIPTION:7:00pm\n\nThis meeting is for PCNB members\, and will be virtual.\n\n\nYou must be a party member by September 9\, 2024\, at 4:30 p.m. and meet the residency requirements in order to vote. (Photo identification is required.) \ninfo@pcnb.ca
URL:https://pcnb.ca/event/beausoleil-grand-bouctouche-kent-nominating-convention/
END:VEVENT
BEGIN:VEVENT
DTSTART;TZID=America/Moncton:20240911T183000
DTEND;TZID=America/Moncton:20240911T190000
DTSTAMP:20260421T174252
CREATED:20240908T173744Z
LAST-MODIFIED:20240908T174518Z
UID:3235-1726079400-1726081200@pcnb.ca
SUMMARY:Dieppe-Memramcook Nominating Convention
DESCRIPTION:6:30pm\n\nThis meeting is for PCNB members\, and will be virtual.\n\n\nYou must be a party member by September 9\, 2024\, at 4:30 p.m. and meet the residency requirements in order to vote. (Photo identification is required.) \ninfo@pcnb.ca
URL:https://pcnb.ca/event/dieppe-memramcook-nominating-convention/
END:VEVENT
BEGIN:VEVENT
DTSTART;TZID=America/Moncton:20240911T180000
DTEND;TZID=America/Moncton:20240911T183000
DTSTAMP:20260421T174252
CREATED:20240908T173912Z
LAST-MODIFIED:20240908T174643Z
UID:3237-1726077600-1726079400@pcnb.ca
SUMMARY:Caraquet Nominating Convention
DESCRIPTION:6:00pm\n\nThis meeting is for PCNB members\, and will be virtual.\n\n\nYou must be a party member by September 9\, 2024\, at 4:30 p.m. and meet the residency requirements in order to vote. (Photo identification is required.) \ninfo@pcnb.ca
URL:https://pcnb.ca/event/caraquet-nominating-convention/
END:VEVENT
BEGIN:VEVENT
DTSTART;TZID=America/Moncton:20240910T183000
DTEND;TZID=America/Moncton:20240910T200000
DTSTAMP:20260421T174252
CREATED:20240904T010449Z
LAST-MODIFIED:20240904T010449Z
UID:3217-1725993000-1725998400@pcnb.ca
SUMMARY:Shediac Bay-Dieppe Nominating Convention
DESCRIPTION:BGC Dieppe\n76 Emmanuel St\nDieppe\, NB\nE1A 2J5\n\n\nRegistration: 6:30pm \nMeeting: 7:00 pm \nVoting:  7:30pm
URL:https://pcnb.ca/event/shediac-bay-dieppe-nominating-convention/
LOCATION:BGC Dieppe\, 76 rue Emmanuel\, Dieppe\, NB\, E1A 2J5\, Canada
END:VEVENT
BEGIN:VEVENT
DTSTART;TZID=America/Moncton:20240828T180000
DTEND;TZID=America/Moncton:20240828T203000
DTSTAMP:20260421T174252
CREATED:20240807T215421Z
LAST-MODIFIED:20240826T185226Z
UID:2993-1724868000-1724877000@pcnb.ca
SUMMARY:Saint John Harbour Nominating Convention
DESCRIPTION:August 28\, 2024\n\n\n\n\nAssumption Centre\n721 Chapel St\nSaint John\, NB\nE2M 2K3\n\n\n\n\n\nRegistration: 6:00pm \nMeeting: 7:00pm \nVoting:  7:30pm \n\n  \nYou must be a party member by August 21\, 2024\, at 4:30 p.m. and meet the residency requirements in order to vote. (Photo identification is required.)
URL:https://pcnb.ca/event/saint-john-harbour-nominating-convention/
LOCATION:Assumption Centre\, 721 Chapel St\, Saint John\, NB\, Canada
ATTACH;FMTTYPE=image/jpeg:https://pcnb.ca/wp-content/uploads/2024/01/pc-logo.jpg
END:VEVENT
BEGIN:VEVENT
DTSTART;TZID=America/Moncton:20240828T180000
DTEND;TZID=America/Moncton:20240828T200000
DTSTAMP:20260421T174252
CREATED:20240803T091827Z
LAST-MODIFIED:20240826T184930Z
UID:2987-1724868000-1724875200@pcnb.ca
SUMMARY:Bathurst Nominating Convention
DESCRIPTION:August 28\, 2024\n\n\n\nBathurst Marina\n1555 Queen Elizabeth Dr\nBathurst\, NB\nE2A 4Y4\n\n\n\n\nRegistration: 6:00pm \nMeeting: 6:30pm \nVoting:  7:00pm \n\n  \nYou must be a party member by August 21\, 2024\, at 4:30 p.m. and meet the residency requirements in order to vote. (Photo identification is required.)
URL:https://pcnb.ca/event/bathurst-nominating-convention/
LOCATION:Bathurst Marina\, 1555 Queen Elizabeth Dr\, Bathurst\, NB\, Canada
ATTACH;FMTTYPE=image/jpeg:https://pcnb.ca/wp-content/uploads/2024/01/pc-logo.jpg
END:VEVENT
BEGIN:VEVENT
DTSTART;TZID=America/Moncton:20240822T170000
DTEND;TZID=America/Moncton:20240822T190000
DTSTAMP:20260421T174252
CREATED:20240820T203602Z
LAST-MODIFIED:20240820T203602Z
UID:3091-1724346000-1724353200@pcnb.ca
SUMMARY:Carleton-Victoria PC Association
DESCRIPTION:
URL:https://pcnb.ca/event/carleton-victoria-pc-association/
LOCATION:New Denmark Rec Centre
ATTACH;FMTTYPE=image/jpeg:https://pcnb.ca/wp-content/uploads/2024/08/MJ-Event-August-22-2024-En.jpeg
END:VEVENT
BEGIN:VEVENT
DTSTART;TZID=America/Moncton:20240815T183000
DTEND;TZID=America/Moncton:20240815T200000
DTSTAMP:20260421T174252
CREATED:20240726T002215Z
LAST-MODIFIED:20240726T002215Z
UID:2974-1723746600-1723752000@pcnb.ca
SUMMARY:Restigouche West Nominating Convention
DESCRIPTION:August 15\, 2024\n\n\nTide Head Fire Hall\n6 Mountain St.\nTide Head\, NB\nE3N 4J9\n\n\n\nRegistration: 6:30pm \nMeeting: 7:00 pm \nVoting:  7:30pm \n\nYou must be a party member by August 8\, 2024\, at 4:30 p.m. and meet the residency requirements in order to vote. (Photo identification is required.)
URL:https://pcnb.ca/event/restigouche-west-nominating-convention/
LOCATION:Tide Head Fire Hall\, 6 rue Mountain\, Tide Head\, NB\, E3N 4J9\, Canada
ATTACH;FMTTYPE=image/jpeg:https://pcnb.ca/wp-content/uploads/2024/01/pc-logo.jpg
END:VEVENT
BEGIN:VEVENT
DTSTART;TZID=America/Moncton:20240815T120000
DTEND;TZID=America/Moncton:20240815T170000
DTSTAMP:20260421T174252
CREATED:20240625T200243Z
LAST-MODIFIED:20240703T151134Z
UID:2907-1723723200-1723741200@pcnb.ca
SUMMARY:Kings Centre PC Association Golf Tournament
DESCRIPTION:2nd Annual Kings Centre\n9-Hole Golf Tournament and BBQ\n  \nThursday\, August 15\, 2024 \nMidland Meadows Golf Club \n774 Route 855\, Norton\, NB \nLunch: Noon \nShotgun Start: 1:00 p.m. \n  \nBBQ Lunch at Noon and throughout the tourney \n  \nCost: $100 \nIncludes 9 Holes of Golf \nPower Cart \nBBQ Lunch \n  \nPurchase Tickets Here\n  \nContact: \nJim Balcomb \n(506) 644-8681 \njamesfredbalcomb@gmail.com
URL:https://pcnb.ca/event/kings-centre-pc-association-golf-tournament/
LOCATION:Midland Meadows Golf Club
ATTACH;FMTTYPE=image/jpeg:https://pcnb.ca/wp-content/uploads/2024/01/pc-logo.jpg
END:VEVENT
BEGIN:VEVENT
DTSTART;TZID=America/Moncton:20240814T180000
DTEND;TZID=America/Moncton:20240814T200000
DTSTAMP:20260421T174252
CREATED:20240722T174920Z
LAST-MODIFIED:20240722T174920Z
UID:2939-1723658400-1723665600@pcnb.ca
SUMMARY:Tantramar Progressive Conservative Association Founding Meeting
DESCRIPTION:Date: August 14\, 2024 \nTime: 6:00pm \nSackville Legion\n15 Lorne St.\nSackville \, NB \nYou must be a party member to vote.
URL:https://pcnb.ca/event/tantramar-progressive-conservative-association-founding-meeting/
LOCATION:Sackville Legion
ATTACH;FMTTYPE=image/jpeg:https://pcnb.ca/wp-content/uploads/2024/01/pc-logo.jpg
END:VEVENT
BEGIN:VEVENT
DTSTART;TZID=America/Moncton:20240802T120000
DTEND;TZID=America/Moncton:20240802T180000
DTSTAMP:20260421T174252
CREATED:20240703T153638Z
LAST-MODIFIED:20240703T153638Z
UID:2921-1722600000-1722621600@pcnb.ca
SUMMARY:Mike Dawson's Golf Tournament
DESCRIPTION:Friday\, August 2\, 2024 \nOld Mill Pond Club \n6 Central Street \nDoaktown\, NB \nShotgun Start: Noon \nSalmon Dinner \nTickets $125
URL:https://pcnb.ca/event/mike-dawsons-golf-tournament/
ATTACH;FMTTYPE=image/jpeg:https://pcnb.ca/wp-content/uploads/2024/01/pc-logo.jpg
END:VEVENT
BEGIN:VEVENT
DTSTART;TZID=America/Moncton:20240721T133000
DTEND;TZID=America/Moncton:20240721T150000
DTSTAMP:20260421T174252
CREATED:20240626T172100Z
LAST-MODIFIED:20240626T172100Z
UID:2911-1721568600-1721574000@pcnb.ca
SUMMARY:Restigouche East Nominating Convention
DESCRIPTION:July 21\, 2024\nCharlo Golden Age Club \n17 McIntyre St \nCharlo\, NB \nE8E 2A7 \n  \nRegistration: 1:30pm \nMeeting: 2:00pm \nVoting:  2:30pm \n  \nYou must be a party member by July 14th\, 2024\, at 4:30pm and meet the residency requirements in order to vote. (Photo identification is required.)
URL:https://pcnb.ca/event/restigouche-east-nominating-convention/
LOCATION:Charlo Golden Age Club
ATTACH;FMTTYPE=image/jpeg:https://pcnb.ca/wp-content/uploads/2024/01/pc-logo.jpg
END:VEVENT
BEGIN:VEVENT
DTSTART;TZID=America/Moncton:20240718T180000
DTEND;TZID=America/Moncton:20240718T200000
DTSTAMP:20260421T174252
CREATED:20240709T173023Z
LAST-MODIFIED:20240709T173023Z
UID:2928-1721325600-1721332800@pcnb.ca
SUMMARY:Fredericton South-Silverwood Progressive Conservative Association
DESCRIPTION:Fredericton South-Silverwood Progressive Conservative Association \nFundraising Reception \nJuly 18\, 2024 \n6:00pm \n  \nGuest Speaker Hon Blaine Higgs \n  \nPrivate Residence \nFredericton\, NB \n$100 per person \nBuy Tickets Here
URL:https://pcnb.ca/event/fredericton-south-silverwood-progressive-conservative-association/
LOCATION:Private Residence\, Fredericton\, NB\, Canada
ATTACH;FMTTYPE=image/jpeg:https://pcnb.ca/wp-content/uploads/2023/12/pc-logo-1.jpg
END:VEVENT
BEGIN:VEVENT
DTSTART;TZID=America/Moncton:20240713T100000
DTEND;TZID=America/Moncton:20240713T113000
DTSTAMP:20260421T174252
CREATED:20240622T145046Z
LAST-MODIFIED:20240622T145046Z
UID:2410-1720864800-1720870200@pcnb.ca
SUMMARY:Grand-Sault-Vallée-des-Rivières-Saint-Quentin
DESCRIPTION:Nominating Convention\nJuly 13\, 2024\nPalais Centre Ville \n198 rue Canada \nSaint-Quentin \nE8A 1G9 \n  \nRegistration: 10:00am \nMeeting: 10:30am \nVoting:  11:00am \n  \nYou must be a party member by July 6th\, 2024\, at 4:30pm and meet the residency requirements in order to vote. (Photo identification is required.)
URL:https://pcnb.ca/event/grand-sault-vallee-des-rivieres-saint-quentin/
LOCATION:Palais Centre Ville
ATTACH;FMTTYPE=image/jpeg:https://pcnb.ca/wp-content/uploads/2024/01/pc-logo.jpg
END:VEVENT
BEGIN:VEVENT
DTSTART;TZID=America/Moncton:20240711T183000
DTEND;TZID=America/Moncton:20240711T183000
DTSTAMP:20260421T174252
CREATED:20240619T191733Z
LAST-MODIFIED:20240619T191733Z
UID:2406-1720722600-1720722600@pcnb.ca
SUMMARY:Saint John Portland-Simonds Nominating Convention
DESCRIPTION:July 11\, 2024\nChateau Saint John \n369 Rockland Road \nSaint John\, NB \nE2K 3W3 \n  \nRegistration: 6:30pm \nMeeting: 7:00pm \nVoting:  8:00pm \n  \nYou must be a party member by July 4th\, 2024\, at 4:30pm and meet the residency requirements in order to vote. (Photo identification is required.)
URL:https://pcnb.ca/event/saint-john-portland-simonds-nominating-convention/
LOCATION:Chateau Saint John
ATTACH;FMTTYPE=image/jpeg:https://pcnb.ca/wp-content/uploads/2024/01/pc-logo.jpg
END:VEVENT
END:VCALENDAR