BEGIN:VCALENDAR
VERSION:2.0
PRODID:-//PCNB- Progressive Conservative Party of New Brunswick - ECPv6.15.12.2//NONSGML v1.0//EN
CALSCALE:GREGORIAN
METHOD:PUBLISH
X-WR-CALNAME:PCNB- Progressive Conservative Party of New Brunswick
X-ORIGINAL-URL:https://pcnb.ca
X-WR-CALDESC:Events for PCNB- Progressive Conservative Party of New Brunswick
REFRESH-INTERVAL;VALUE=DURATION:PT1H
X-Robots-Tag:noindex
X-PUBLISHED-TTL:PT1H
BEGIN:VTIMEZONE
TZID:America/Moncton
BEGIN:DAYLIGHT
TZOFFSETFROM:-0400
TZOFFSETTO:-0300
TZNAME:ADT
DTSTART:20240310T060000
END:DAYLIGHT
BEGIN:STANDARD
TZOFFSETFROM:-0300
TZOFFSETTO:-0400
TZNAME:AST
DTSTART:20241103T050000
END:STANDARD
BEGIN:DAYLIGHT
TZOFFSETFROM:-0400
TZOFFSETTO:-0300
TZNAME:ADT
DTSTART:20250309T060000
END:DAYLIGHT
BEGIN:STANDARD
TZOFFSETFROM:-0300
TZOFFSETTO:-0400
TZNAME:AST
DTSTART:20251102T050000
END:STANDARD
BEGIN:DAYLIGHT
TZOFFSETFROM:-0400
TZOFFSETTO:-0300
TZNAME:ADT
DTSTART:20260308T060000
END:DAYLIGHT
BEGIN:STANDARD
TZOFFSETFROM:-0300
TZOFFSETTO:-0400
TZNAME:AST
DTSTART:20261101T050000
END:STANDARD
END:VTIMEZONE
BEGIN:VEVENT
DTSTART;TZID=America/Moncton:20251127T173000
DTEND;TZID=America/Moncton:20251127T193000
DTSTAMP:20260421T212756
CREATED:20251107T152016Z
LAST-MODIFIED:20251125T141554Z
UID:4787-1764264600-1764271800@pcnb.ca
SUMMARY:Saint Croix Fundraiser
DESCRIPTION:SOLD OUT! \n📢 You Are Invited to the Saint Croix Fundraiser \nJoin us Thursday November 27th\, for a Roast Beef Buffet Dinner with MLA Kathy Bockus\, followed by a Dessert Auction. \n  \n📅 Save the Date \n🗓️ Thursday November 27th \n📍 St. Stephen Legion\, 43 Queen Street West\, St. Stephen \n⏰ 5:30pm – 6:00pm Registration\, Meet & Greet \n⏰ 6:30pm Dinner
URL:https://pcnb.ca/event/saint-croix-fundraiser-2/
LOCATION:St Stephen Legion\, 43 Queen Street West\, St. Stephen\, NB\, Canada
ATTACH;FMTTYPE=image/jpeg:https://pcnb.ca/wp-content/uploads/2024/01/pc-logo.jpg
END:VEVENT
END:VCALENDAR