BEGIN:VCALENDAR
VERSION:2.0
PRODID:-//PCNB- Progressive Conservative Party of New Brunswick - ECPv6.15.12.2//NONSGML v1.0//EN
CALSCALE:GREGORIAN
METHOD:PUBLISH
X-WR-CALNAME:PCNB- Progressive Conservative Party of New Brunswick
X-ORIGINAL-URL:https://pcnb.ca
X-WR-CALDESC:Events for PCNB- Progressive Conservative Party of New Brunswick
REFRESH-INTERVAL;VALUE=DURATION:PT1H
X-Robots-Tag:noindex
X-PUBLISHED-TTL:PT1H
BEGIN:VTIMEZONE
TZID:America/Moncton
BEGIN:DAYLIGHT
TZOFFSETFROM:-0400
TZOFFSETTO:-0300
TZNAME:ADT
DTSTART:20240310T060000
END:DAYLIGHT
BEGIN:STANDARD
TZOFFSETFROM:-0300
TZOFFSETTO:-0400
TZNAME:AST
DTSTART:20241103T050000
END:STANDARD
BEGIN:DAYLIGHT
TZOFFSETFROM:-0400
TZOFFSETTO:-0300
TZNAME:ADT
DTSTART:20250309T060000
END:DAYLIGHT
BEGIN:STANDARD
TZOFFSETFROM:-0300
TZOFFSETTO:-0400
TZNAME:AST
DTSTART:20251102T050000
END:STANDARD
BEGIN:DAYLIGHT
TZOFFSETFROM:-0400
TZOFFSETTO:-0300
TZNAME:ADT
DTSTART:20260308T060000
END:DAYLIGHT
BEGIN:STANDARD
TZOFFSETFROM:-0300
TZOFFSETTO:-0400
TZNAME:AST
DTSTART:20261101T050000
END:STANDARD
END:VTIMEZONE
BEGIN:VEVENT
DTSTART;TZID=America/Moncton:20251109T140000
DTEND;TZID=America/Moncton:20251109T150000
DTSTAMP:20260421T212806
CREATED:20251105T161355Z
LAST-MODIFIED:20251105T161355Z
UID:4781-1762696800-1762700400@pcnb.ca
SUMMARY:Tracadie PC Association Annual Meeting
DESCRIPTION:📢 Join us on November 9th\, as the Tracadie PC Association embarks on a new year and a new beginning! \n  \n🌟 What to Expect \nThis exciting event will feature our Annual Meeting\, where key positions—including President\, Vice President\, Second Vice President\, Secretary\, Treasurer\, and Board of Directors—will be nominated and voted upon. \n  \n💼 Would You Like to Join Our Team? \nIf you’re interested in putting your name forward for any of these positions\, please contact Gertrude McLaughlin at: \n📧 info@pcnb.ca \n  \n🌍 Get Involved! \nWe’re looking for passionate individuals ready to make a difference in our community outreach initiatives and help prepare for an impactful return in 2028. \nWe would like to send a special invitation to new Canadians\, young people and women with an interest in politics. \nIf you’re looking for an opportunity to get involved\, ask questions\, and have your voice heard\, we encourage you to join us. \nThis is a great chance to engage\, learn\, and contribute to meaningful discussions that shape our communities. \n  \n📅 Save the Date \n🗓️ November 9 \n📍 Marché Centre-Ville \n📍 3267\, rue Principale\, Tracadie \n⏰ 1:30pm Registration \n⏰ 2:00pm Annual Meeting Begins
URL:https://pcnb.ca/event/tracadie-pc-association-annual-meeting/
LOCATION:Marche Centre-Ville\, 3267\, rue Principale\, Tracadie\, NB\, Canada
ATTACH;FMTTYPE=image/jpeg:https://pcnb.ca/wp-content/uploads/2024/01/pc-logo.jpg
END:VEVENT
END:VCALENDAR