BEGIN:VCALENDAR
VERSION:2.0
PRODID:-//PCNB- Progressive Conservative Party of New Brunswick - ECPv6.15.12.2//NONSGML v1.0//EN
CALSCALE:GREGORIAN
METHOD:PUBLISH
X-ORIGINAL-URL:https://pcnb.ca
X-WR-CALDESC:Events for PCNB- Progressive Conservative Party of New Brunswick
REFRESH-INTERVAL;VALUE=DURATION:PT1H
X-Robots-Tag:noindex
X-PUBLISHED-TTL:PT1H
BEGIN:VTIMEZONE
TZID:America/Moncton
BEGIN:DAYLIGHT
TZOFFSETFROM:-0400
TZOFFSETTO:-0300
TZNAME:ADT
DTSTART:20240310T060000
END:DAYLIGHT
BEGIN:STANDARD
TZOFFSETFROM:-0300
TZOFFSETTO:-0400
TZNAME:AST
DTSTART:20241103T050000
END:STANDARD
BEGIN:DAYLIGHT
TZOFFSETFROM:-0400
TZOFFSETTO:-0300
TZNAME:ADT
DTSTART:20250309T060000
END:DAYLIGHT
BEGIN:STANDARD
TZOFFSETFROM:-0300
TZOFFSETTO:-0400
TZNAME:AST
DTSTART:20251102T050000
END:STANDARD
BEGIN:DAYLIGHT
TZOFFSETFROM:-0400
TZOFFSETTO:-0300
TZNAME:ADT
DTSTART:20260308T060000
END:DAYLIGHT
BEGIN:STANDARD
TZOFFSETFROM:-0300
TZOFFSETTO:-0400
TZNAME:AST
DTSTART:20261101T050000
END:STANDARD
END:VTIMEZONE
BEGIN:VEVENT
DTSTART;TZID=America/Moncton:20251106T180000
DTEND;TZID=America/Moncton:20251106T203000
DTSTAMP:20260421T212923
CREATED:20250317T150017Z
LAST-MODIFIED:20251022T130656Z
UID:4490-1762452000-1762461000@pcnb.ca
SUMMARY:Hanwell-New Maryland Fundraiser
DESCRIPTION:📢 You Are Invited to the Hanwell-New Maryland Fundraiser \nJoin us Thursday November 6th\, for a Fundraising Dinner with PCNB Leader Glen Savoie. \n  \n🌟 What to Expect \nThis event is hosted by the Hanwell-New Maryland PC Association.  Dinner will be baked ham dinner with apple pie and ice cream for dessert. \n  \n 💼 Want to Join Us? \nBuy your tickets online here or contact Joanne Saulnier\, info@pcnb.ca / (506) 453-3456 \nAll tickets must be purchased by individuals using personal funds. \nTickets cost $36 each until November 1st. \n  \n📅 Save the Date \n🗓️ Thursday November 6th \n📍 Tri County Complex\, 49 Prides Landing Road\, Fredericton Junction \n⏰ 6:00pm – 7:00pm Registration\, Meet & Greet \n⏰ 7:00pm Dinner \n  \nRSVP
URL:https://pcnb.ca/event/hanwell-new-maryland-fundraiser/
LOCATION:Tri County Complex\, 49 Prides Landing Road\, Fredericton Junction\, NB\, E5L 1Y1
ATTACH;FMTTYPE=image/jpeg:https://pcnb.ca/wp-content/uploads/2023/12/pc-logo-6.jpg
END:VEVENT
END:VCALENDAR