BEGIN:VCALENDAR
VERSION:2.0
PRODID:-//PCNB- Progressive Conservative Party of New Brunswick - ECPv6.15.12.2//NONSGML v1.0//EN
CALSCALE:GREGORIAN
METHOD:PUBLISH
X-ORIGINAL-URL:https://pcnb.ca
X-WR-CALDESC:Events for PCNB- Progressive Conservative Party of New Brunswick
REFRESH-INTERVAL;VALUE=DURATION:PT1H
X-Robots-Tag:noindex
X-PUBLISHED-TTL:PT1H
BEGIN:VTIMEZONE
TZID:America/Moncton
BEGIN:DAYLIGHT
TZOFFSETFROM:-0400
TZOFFSETTO:-0300
TZNAME:ADT
DTSTART:20240310T060000
END:DAYLIGHT
BEGIN:STANDARD
TZOFFSETFROM:-0300
TZOFFSETTO:-0400
TZNAME:AST
DTSTART:20241103T050000
END:STANDARD
BEGIN:DAYLIGHT
TZOFFSETFROM:-0400
TZOFFSETTO:-0300
TZNAME:ADT
DTSTART:20250309T060000
END:DAYLIGHT
BEGIN:STANDARD
TZOFFSETFROM:-0300
TZOFFSETTO:-0400
TZNAME:AST
DTSTART:20251102T050000
END:STANDARD
BEGIN:DAYLIGHT
TZOFFSETFROM:-0400
TZOFFSETTO:-0300
TZNAME:ADT
DTSTART:20260308T060000
END:DAYLIGHT
BEGIN:STANDARD
TZOFFSETFROM:-0300
TZOFFSETTO:-0400
TZNAME:AST
DTSTART:20261101T050000
END:STANDARD
END:VTIMEZONE
BEGIN:VEVENT
DTSTART;TZID=America/Moncton:20250630T183000
DTEND;TZID=America/Moncton:20250630T200000
DTSTAMP:20260421T151810
CREATED:20250307T123516Z
LAST-MODIFIED:20250604T115015Z
UID:4402-1751308200-1751313600@pcnb.ca
SUMMARY:Woodstock-Hartland Annual Meeting
DESCRIPTION:Join us on June 30th as the Woodstock-Hartland Riding Association embarks on a new year and a new beginning! \nThis exciting event will feature our Annual General Meeting (AGM)\, where key positions—including President\, Vice President\, Secretary\, Treasurer\, and Board of Directors—will be nominated and voted upon. \nWe’re thrilled to announce that Tobique-Mactaquac MP Richard Bragdon will join us to deliver an inspiring address at the AGM. \n📅 Save the Date \n\n🗓️ Monday\, June 30 \n📍 Ayr Motor Centre\, 105 Connell Park Road\, Woodstock \n⏰ 6:30 – 7:00 PM Registration & Meet & Greet \n⏰ 7:00 PM AGM Begins
URL:https://pcnb.ca/event/woodstock-hartland-annual-meeting/
LOCATION:Ayr Motor Centre\, 105 Connell Park Road\, Woodstock\, New Brunswick\, E7M 1M5\, Canada
ATTACH;FMTTYPE=image/jpeg:https://pcnb.ca/wp-content/uploads/2023/12/pc-logo-6.jpg
END:VEVENT
END:VCALENDAR