BEGIN:VCALENDAR
VERSION:2.0
PRODID:-//PCNB- Progressive Conservative Party of New Brunswick - ECPv6.15.12.2//NONSGML v1.0//EN
CALSCALE:GREGORIAN
METHOD:PUBLISH
X-ORIGINAL-URL:https://pcnb.ca
X-WR-CALDESC:Events for PCNB- Progressive Conservative Party of New Brunswick
REFRESH-INTERVAL;VALUE=DURATION:PT1H
X-Robots-Tag:noindex
X-PUBLISHED-TTL:PT1H
BEGIN:VTIMEZONE
TZID:America/Moncton
BEGIN:DAYLIGHT
TZOFFSETFROM:-0400
TZOFFSETTO:-0300
TZNAME:ADT
DTSTART:20240310T060000
END:DAYLIGHT
BEGIN:STANDARD
TZOFFSETFROM:-0300
TZOFFSETTO:-0400
TZNAME:AST
DTSTART:20241103T050000
END:STANDARD
BEGIN:DAYLIGHT
TZOFFSETFROM:-0400
TZOFFSETTO:-0300
TZNAME:ADT
DTSTART:20250309T060000
END:DAYLIGHT
BEGIN:STANDARD
TZOFFSETFROM:-0300
TZOFFSETTO:-0400
TZNAME:AST
DTSTART:20251102T050000
END:STANDARD
BEGIN:DAYLIGHT
TZOFFSETFROM:-0400
TZOFFSETTO:-0300
TZNAME:ADT
DTSTART:20260308T060000
END:DAYLIGHT
BEGIN:STANDARD
TZOFFSETFROM:-0300
TZOFFSETTO:-0400
TZNAME:AST
DTSTART:20261101T050000
END:STANDARD
END:VTIMEZONE
BEGIN:VEVENT
DTSTART;TZID=America/Moncton:20250524T090000
DTEND;TZID=America/Moncton:20250524T110000
DTSTAMP:20260421T140254
CREATED:20250506T112733Z
LAST-MODIFIED:20250506T112733Z
UID:4624-1748077200-1748084400@pcnb.ca
SUMMARY:Moncton South Annual Meeting
DESCRIPTION:📢 You Are Invited to the Moncton South Riding Association Annual Meeting \nJoin us on Saturday May 24\, as the Moncton South Riding Association embarks on a new year and a new beginning! \n  \n🌟 What to Expect \nThis exciting event will feature our Annual Meeting\, where key positions—including President\, Vice President\, Second Vice President\, Secretary\, Treasurer\, and Board of Directors—will be nominated and voted upon. \n  \n 💼 Want to Join Our Team? \nIf you’re interested in putting your name forward for any of these positions\, please contact Joanne Saulnier at: \n📧 info@pcnb.ca \n  \n🌍 Get Involved! \nWe’re looking for passionate individuals ready to make a difference in our community outreach initiatives and help prepare for an impactful return in 2028. \nWe would like to send a special invitation to new Canadians\, young people and women with an interest in politics. \nIf you’re looking for an opportunity to get involved\, ask questions\, and have your voice heard\, we encourage you to join us. \nThis is a great chance to engage\, learn\, and contribute to meaningful discussions that shape our communities. \n  \n🎤 Special Guest Speaker \nWe’re thrilled to announce that Interim Leader Glen Savoie will join us to deliver an inspiring address at the Annual Meeting. \n  \n📅 Save the Date \n🗓️ Saturday May 24 \n📍 Moncton Press Club\, 160 Assomption Blvd\, Moncton\, NB \n⏰ 9:00 – 9:30 AM Registration & Meet & Greet \n⏰ 9:30 AM AGM Begins \n  \n⚡ Not a Member? No Problem! \nYou must be a Party Member to vote\, but membership sign-ups will be available at the meeting. \nWe’re excited to see you there!
URL:https://pcnb.ca/event/moncton-south-annual-meeting/
LOCATION:Monction Press Club\, 160 Assomption Blvd\, Moncton\, New Brunswick\, E1C 1A4\, Canada
ATTACH;FMTTYPE=image/jpeg:https://pcnb.ca/wp-content/uploads/2023/12/pc-logo-6.jpg
END:VEVENT
BEGIN:VEVENT
DTSTART;TZID=America/Moncton:20250524T090000
DTEND;TZID=America/Moncton:20250524T110000
DTSTAMP:20260421T140254
CREATED:20250507T143431Z
LAST-MODIFIED:20250507T143431Z
UID:4627-1748077200-1748084400@pcnb.ca
SUMMARY:Moncton Centre Annual Meeting
DESCRIPTION:📢 You Are Invited to the Moncton Centre Riding Association Annual Meeting \nJoin us on Saturday May 24\, as the Moncton Centre Riding Association embarks on a new year and a new beginning! \n  \n🌟 What to Expect \nThis exciting event will feature our Annual Meeting\, where key positions—including President\, Vice President\, Second Vice President\, Secretary\, Treasurer\, and Board of Directors—will be nominated and voted upon. \n  \n 💼 Want to Join Our Team? \nIf you’re interested in putting your name forward for any of these positions\, please contact Joanne Saulnier at: \n📧 info@pcnb.ca \n  \n🌍 Get Involved! \nWe’re looking for passionate individuals ready to make a difference in our community outreach initiatives and help prepare for an impactful return in 2028. \nWe would like to send a special invitation to new Canadians\, young people and women with an interest in politics. \nIf you’re looking for an opportunity to get involved\, ask questions\, and have your voice heard\, we encourage you to join us. \nThis is a great chance to engage\, learn\, and contribute to meaningful discussions that shape our communities. \n  \n🎤 Special Guest Speaker \nWe’re thrilled to announce that Interim Leader Glen Savoie will join us to deliver an inspiring address at the Annual Meeting. \n  \n📅 Save the Date \n🗓️ Saturday May 24 \n📍 Moncton Press Club\, 160 Assomption Blvd\, Moncton\, NB \n⏰ 9:00 – 9:30 AM Registration & Meet & Greet \n⏰ 9:30 AM AGM Begins \n  \n⚡ Not a Member? No Problem! \nYou must be a Party Member to vote\, but membership sign-ups will be available at the meeting. \nWe’re excited to see you there!
URL:https://pcnb.ca/event/moncton-centre-annual-meeting/
LOCATION:Monction Press Club\, 160 Assomption Blvd\, Moncton\, New Brunswick\, E1C 1A4\, Canada
ATTACH;FMTTYPE=image/jpeg:https://pcnb.ca/wp-content/uploads/2023/12/pc-logo-6.jpg
END:VEVENT
BEGIN:VEVENT
DTSTART;TZID=America/Moncton:20250524T090000
DTEND;TZID=America/Moncton:20250524T110000
DTSTAMP:20260421T140254
CREATED:20250507T161913Z
LAST-MODIFIED:20250507T161913Z
UID:4630-1748077200-1748084400@pcnb.ca
SUMMARY:Champdoré-Irishtown Annual Meeting
DESCRIPTION:📢 You Are Invited to the Champdoré-Irishtown Riding Association Annual Meeting \nJoin us on Saturday May 24\, as the Champdoré-Irishtown Riding Association embarks on a new year and a new beginning! \n  \n🌟 What to Expect \nThis exciting event will feature our Annual Meeting\, where key positions—including President\, Vice President\, Second Vice President\, Secretary\, Treasurer\, and Board of Directors—will be nominated and voted upon. \n  \n 💼 Want to Join Our Team? \nIf you’re interested in putting your name forward for any of these positions\, please contact Joanne Saulnier at: \n📧 info@pcnb.ca \n  \n🌍 Get Involved! \nWe’re looking for passionate individuals ready to make a difference in our community outreach initiatives and help prepare for an impactful return in 2028. \nWe would like to send a special invitation to new Canadians\, young people and women with an interest in politics. \nIf you’re looking for an opportunity to get involved\, ask questions\, and have your voice heard\, we encourage you to join us. \nThis is a great chance to engage\, learn\, and contribute to meaningful discussions that shape our communities. \n  \n🎤 Special Guest Speaker \nWe’re thrilled to announce that Interim Leader Glen Savoie will join us to deliver an inspiring address at the Annual Meeting. \n  \n📅 Save the Date \n🗓️ Saturday May 24 \n📍 Moncton Press Club\, 160 Assomption Blvd\, Moncton\, NB \n⏰ 9:00 – 9:30 AM Registration & Meet & Greet \n⏰ 9:30 AM AGM Begins \n  \n⚡ Not a Member? No Problem! \nYou must be a Party Member to vote\, but membership sign-ups will be available at the meeting. \nWe’re excited to see you there!
URL:https://pcnb.ca/event/champdore-irishtown-annual-meeting/
ATTACH;FMTTYPE=image/jpeg:https://pcnb.ca/wp-content/uploads/2023/12/pc-logo-6.jpg
END:VEVENT
BEGIN:VEVENT
DTSTART;TZID=America/Moncton:20250524T090000
DTEND;TZID=America/Moncton:20250524T110000
DTSTAMP:20260421T140254
CREATED:20250514T174305Z
LAST-MODIFIED:20250514T174305Z
UID:4632-1748077200-1748084400@pcnb.ca
SUMMARY:Shediac Bay-Dieppe Annual Meeting
DESCRIPTION:📢 You Are Invited to the Shediac Bay-Dieppe Riding Association Annual Meeting \nJoin us on Saturday May 24\, as the Shediac Bay-Dieppe Riding Association embarks on a new year and a new beginning! \n  \n🌟 What to Expect \nThis exciting event will feature our Annual Meeting\, where key positions—including President\, Vice President\, Second Vice President\, Secretary\, Treasurer\, and Board of Directors—will be nominated and voted upon. \n  \n 💼 Want to Join Our Team? \nIf you’re interested in putting your name forward for any of these positions\, please contact Joanne Saulnier at: \n📧 info@pcnb.ca \n  \n🌍 Get Involved! \nWe’re looking for passionate individuals ready to make a difference in our community outreach initiatives and help prepare for an impactful return in 2028. \nWe would like to send a special invitation to new Canadians\, young people and women with an interest in politics. \nIf you’re looking for an opportunity to get involved\, ask questions\, and have your voice heard\, we encourage you to join us. \nThis is a great chance to engage\, learn\, and contribute to meaningful discussions that shape our communities. \n  \n🎤 Special Guest Speaker \nWe’re thrilled to announce that Interim Leader Glen Savoie will join us to deliver an inspiring address at the Annual Meeting. \n  \n📅 Save the Date \n🗓️ Saturday May 24 \n📍 Moncton Press Club\, 160 Assomption Blvd\, Moncton\, NB \n⏰ 9:00 – 9:30 AM Registration & Meet & Greet \n⏰ 9:30 AM AGM Begins \n  \n⚡ Not a Member? No Problem! \nYou must be a Party Member to vote\, but membership sign-ups will be available at the meeting. \nWe’re excited to see you there! \n 
URL:https://pcnb.ca/event/shediac-bay-dieppe-annual-meeting/
LOCATION:Monction Press Club\, 160 Assomption Blvd\, Moncton\, New Brunswick\, E1C 1A4\, Canada
ATTACH;FMTTYPE=image/jpeg:https://pcnb.ca/wp-content/uploads/2023/12/pc-logo-6.jpg
END:VEVENT
BEGIN:VEVENT
DTSTART;TZID=America/Moncton:20250524T090000
DTEND;TZID=America/Moncton:20250524T110000
DTSTAMP:20260421T140254
CREATED:20250514T174640Z
LAST-MODIFIED:20250514T174640Z
UID:4634-1748077200-1748084400@pcnb.ca
SUMMARY:Shediac-Cap-Acadie Annual Meeting
DESCRIPTION:📢 You Are Invited to the Shediac-Cap-Acadie Riding Association Annual Meeting \nJoin us on Saturday May 24\, as the Shediac-Cap-Acadie Riding Association embarks on a new year and a new beginning! \n  \n🌟 What to Expect \nThis exciting event will feature our Annual Meeting\, where key positions—including President\, Vice President\, Second Vice President\, Secretary\, Treasurer\, and Board of Directors—will be nominated and voted upon. \n  \n 💼 Want to Join Our Team? \nIf you’re interested in putting your name forward for any of these positions\, please contact Joanne Saulnier at: \n📧 info@pcnb.ca \n  \n🌍 Get Involved! \nWe’re looking for passionate individuals ready to make a difference in our community outreach initiatives and help prepare for an impactful return in 2028. \nWe would like to send a special invitation to new Canadians\, young people and women with an interest in politics. \nIf you’re looking for an opportunity to get involved\, ask questions\, and have your voice heard\, we encourage you to join us. \nThis is a great chance to engage\, learn\, and contribute to meaningful discussions that shape our communities. \n  \n🎤 Special Guest Speaker \nWe’re thrilled to announce that Interim Leader Glen Savoie will join us to deliver an inspiring address at the Annual Meeting. \n  \n📅 Save the Date \n🗓️ Saturday May 24 \n📍 Moncton Press Club\, 160 Assomption Blvd\, Moncton\, NB \n⏰ 9:00 – 9:30 AM Registration & Meet & Greet \n⏰ 9:30 AM AGM Begins \n  \n⚡ Not a Member? No Problem! \nYou must be a Party Member to vote\, but membership sign-ups will be available at the meeting. \nWe’re excited to see you there!
URL:https://pcnb.ca/event/shediac-cap-acadie-annual-meeting/
LOCATION:Monction Press Club\, 160 Assomption Blvd\, Moncton\, New Brunswick\, E1C 1A4\, Canada
ATTACH;FMTTYPE=image/jpeg:https://pcnb.ca/wp-content/uploads/2023/12/pc-logo-6.jpg
END:VEVENT
BEGIN:VEVENT
DTSTART;TZID=America/Moncton:20250524T090000
DTEND;TZID=America/Moncton:20250524T110000
DTSTAMP:20260421T140254
CREATED:20250514T174942Z
LAST-MODIFIED:20250514T174942Z
UID:4636-1748077200-1748084400@pcnb.ca
SUMMARY:Moncton East Annual Meeting
DESCRIPTION:📢 You Are Invited to the Moncton East Riding Association Annual Meeting \nJoin us on Saturday May 24\, as the Moncton East Riding Association embarks on a new year and a new beginning! \n  \n🌟 What to Expect \nThis exciting event will feature our Annual Meeting\, where key positions—including President\, Vice President\, Second Vice President\, Secretary\, Treasurer\, and Board of Directors—will be nominated and voted upon. \n  \n 💼 Want to Join Our Team? \nIf you’re interested in putting your name forward for any of these positions\, please contact Joanne Saulnier at: \n📧 info@pcnb.ca \n  \n🌍 Get Involved! \nWe’re looking for passionate individuals ready to make a difference in our community outreach initiatives and help prepare for an impactful return in 2028. \nWe would like to send a special invitation to new Canadians\, young people and women with an interest in politics. \nIf you’re looking for an opportunity to get involved\, ask questions\, and have your voice heard\, we encourage you to join us. \nThis is a great chance to engage\, learn\, and contribute to meaningful discussions that shape our communities. \n  \n🎤 Special Guest Speaker \nWe’re thrilled to announce that Interim Leader Glen Savoie will join us to deliver an inspiring address at the Annual Meeting. \n  \n📅 Save the Date \n🗓️ Saturday May 24 \n📍 Moncton Press Club\, 160 Assomption Blvd\, Moncton\, NB \n⏰ 9:00 – 9:30 AM Registration & Meet & Greet \n⏰ 9:30 AM AGM Begins \n  \n⚡ Not a Member? No Problem! \nYou must be a Party Member to vote\, but membership sign-ups will be available at the meeting. \nWe’re excited to see you there!
URL:https://pcnb.ca/event/moncton-east-annual-meeting/
LOCATION:Monction Press Club\, 160 Assomption Blvd\, Moncton\, New Brunswick\, E1C 1A4\, Canada
ATTACH;FMTTYPE=image/jpeg:https://pcnb.ca/wp-content/uploads/2023/12/pc-logo-6.jpg
END:VEVENT
BEGIN:VEVENT
DTSTART;TZID=America/Moncton:20250524T130000
DTEND;TZID=America/Moncton:20250524T170000
DTSTAMP:20260421T140254
CREATED:20250318T153924Z
LAST-MODIFIED:20250521T133812Z
UID:4510-1748091600-1748106000@pcnb.ca
SUMMARY:Special Meeting
DESCRIPTION:Special Meeting\nThe Progressive Conservative Party of New Brunswick will hold a Special Meeting on May 24\, 2025\, at 1:00 p.m. at Four Points Moncton\, 40 Lada Ava Blvd\, Moncton to consider changes to our PCNB Constitution. The meeting is hosted by co-chairs Veeru Nagalla and Erika Hachey. \nThe special meeting is open to all current PCNB members “Members” who register by May 20\, 2025\, and pay the registration fee of $35.00 \nThe process for submissions of proposed constitutional amendments “Amendments” can be done by a Progressive Conservative Registered District Associations “RDAs” (1)\, or Individual any party members (2) see below. \n  \n1. Process to Submit Proposed Constitutional Amendments (RDA) \n\nRDA – March 19th to April 21st\, 2025\, RDAs will hold meetings (virtual or face to face) to select Amendment proposals.\nThe meetings will be posted on the PCNB events page at https://pcnb.ca/events/\nProposed Amendments may be brought forward by the RDA Executive\, or by any Individual Member\, at an RDA meeting called for this purpose.\nAll Amendments that gain the support of a majority of voting Members in attendance at the meeting will be forwarded to the Constitutional Revision Committee “CRC”.\nAll submissions must be sent to Joanne Saulnier by email Joanne.Saulnier@pcnb.ca no later than 4:30 p.m on April 22\, 2025.\nThe CRC will review Amendments by April 29\, 2025\, and determine which Amendments are “in-order”.\nThe CRC will present all in-order Amendments to RDA Presidents for review and potential support by April 30\, 2025.\nEach RDA President will hold a meeting (can be virtual or in person) to decide whether the RDA will support or not support each individual Amendment.\nRDAs will submit their results to Joanne Saulnier by email to Joanne.Saulnier@pcnb.ca by 4:30 p.m.\, May 14\, 2025.\nAmendments that have net positive support of five (5) RDAs will be presented at the Special Meeting for those registered to vote on;\n\nFor example\, if ten (10) ridings support an Amendment and four (4) ridings oppose it\, it WILL go to the Special Meeting\, as it has a net positive of six (6);\nIf ten (10) ridings support an Amendment and six (6) ridings oppose it\, it WILL NOT go to the Special Meeting\, as it has a net positive of four (4).\n\n\n\n\nThe final list of Amendments to be presented at the Special Meeting will be published May 16\, 2025.\n\n  \n2. Process to Submit Proposed Constitutional Amendments (Individual Members) \n\nAny individual Member may submit an Amendment using the attached form: “Constitutional Amendment Form – Formulaire d’amendement constitutionnel”\nSubmissions must be sent to Joanne Saulnier by email to Joanne.Saulnier@pcnb.ca before 4:30 p.m.\, April 22\, 2025.\nAll Individual Member submissions will be forwarded to the CRC.\nThe CRC will review Amendments by April 29\, 2025\, and determine which Amendments are “in-order”.\nThe CRC will present all in-order Amendments to RDA Presidents for review and potential support by April 30\, 2025.\nEach RDA President will hold a meeting (can be virtual or in person) to decide whether the RDA will support or not support each individual Amendment.\nRDAs will submit their results to Joanne Saulnier by email to Joanne.Saulnier@pcnb.ca by May 14\, 2025.\nAmendments that have net positive support of five (5) RDAs will be presented at the Special Meeting for those present to vote on;\nFor example\, if ten (10) ridings support an Amendment and four (4) ridings oppose it\, it WILL go to the Special Meeting\, as it has a net positive of six (6);\nIf ten (10) ridings support an Amendment and six (6) ridings oppose it\, it WILL NOT go to the Special Meeting\, as it has a net positive of four (4).\nThe final list of Amendments to be presented at the Special Meeting will be published May 16\, 2025.\n\nProposed Constitutional Amendments
URL:https://pcnb.ca/event/special-meeting/
LOCATION:Four Points Moncton\, 40 boul Lady Ada Blvd\, Moncton\, NB\, Canada
ATTACH;FMTTYPE=image/jpeg:https://pcnb.ca/wp-content/uploads/2023/12/pc-logo-6.jpg
END:VEVENT
END:VCALENDAR