BEGIN:VCALENDAR
VERSION:2.0
PRODID:-//PCNB- Progressive Conservative Party of New Brunswick - ECPv6.15.12.2//NONSGML v1.0//EN
CALSCALE:GREGORIAN
METHOD:PUBLISH
X-ORIGINAL-URL:https://pcnb.ca
X-WR-CALDESC:Events for PCNB- Progressive Conservative Party of New Brunswick
REFRESH-INTERVAL;VALUE=DURATION:PT1H
X-Robots-Tag:noindex
X-PUBLISHED-TTL:PT1H
BEGIN:VTIMEZONE
TZID:America/Moncton
BEGIN:DAYLIGHT
TZOFFSETFROM:-0400
TZOFFSETTO:-0300
TZNAME:ADT
DTSTART:20230312T060000
END:DAYLIGHT
BEGIN:STANDARD
TZOFFSETFROM:-0300
TZOFFSETTO:-0400
TZNAME:AST
DTSTART:20231105T050000
END:STANDARD
BEGIN:DAYLIGHT
TZOFFSETFROM:-0400
TZOFFSETTO:-0300
TZNAME:ADT
DTSTART:20240310T060000
END:DAYLIGHT
BEGIN:STANDARD
TZOFFSETFROM:-0300
TZOFFSETTO:-0400
TZNAME:AST
DTSTART:20241103T050000
END:STANDARD
BEGIN:DAYLIGHT
TZOFFSETFROM:-0400
TZOFFSETTO:-0300
TZNAME:ADT
DTSTART:20250309T060000
END:DAYLIGHT
BEGIN:STANDARD
TZOFFSETFROM:-0300
TZOFFSETTO:-0400
TZNAME:AST
DTSTART:20251102T050000
END:STANDARD
END:VTIMEZONE
BEGIN:VEVENT
DTSTART;TZID=America/Moncton:20240926T170000
DTEND;TZID=America/Moncton:20240926T173000
DTSTAMP:20260421T072200
CREATED:20240926T121409Z
LAST-MODIFIED:20240926T121409Z
UID:3694-1727370000-1727371800@pcnb.ca
SUMMARY:Hautes-Terres-Nepisiguit Nominating Convention
DESCRIPTION:September 26\, 2024\n\nThis meeting is for PCNB members\, and will be virtual.\n\n\nPlease reply to this email for login information. \n\nMeeting: 5:00 pm \nYou must be a party member by September 26\, 2024\, at 4:30 p.m. and meet the residency requirements in order to vote. (Photo identification is required.)
URL:https://pcnb.ca/event/hautes-terres-nepisiguit-nominating-convention/
ATTACH;FMTTYPE=image/png:https://pcnb.ca/wp-content/uploads/2024/08/image-1.png
END:VEVENT
END:VCALENDAR