BEGIN:VCALENDAR
VERSION:2.0
PRODID:-//PCNB- Progressive Conservative Party of New Brunswick - ECPv6.15.12.2//NONSGML v1.0//EN
CALSCALE:GREGORIAN
METHOD:PUBLISH
X-ORIGINAL-URL:https://pcnb.ca
X-WR-CALDESC:Events for PCNB- Progressive Conservative Party of New Brunswick
REFRESH-INTERVAL;VALUE=DURATION:PT1H
X-Robots-Tag:noindex
X-PUBLISHED-TTL:PT1H
BEGIN:VTIMEZONE
TZID:America/Halifax
BEGIN:DAYLIGHT
TZOFFSETFROM:-0400
TZOFFSETTO:-0300
TZNAME:ADT
DTSTART:20230312T060000
END:DAYLIGHT
BEGIN:STANDARD
TZOFFSETFROM:-0300
TZOFFSETTO:-0400
TZNAME:AST
DTSTART:20231105T050000
END:STANDARD
BEGIN:DAYLIGHT
TZOFFSETFROM:-0400
TZOFFSETTO:-0300
TZNAME:ADT
DTSTART:20240310T060000
END:DAYLIGHT
BEGIN:STANDARD
TZOFFSETFROM:-0300
TZOFFSETTO:-0400
TZNAME:AST
DTSTART:20241103T050000
END:STANDARD
BEGIN:DAYLIGHT
TZOFFSETFROM:-0400
TZOFFSETTO:-0300
TZNAME:ADT
DTSTART:20250309T060000
END:DAYLIGHT
BEGIN:STANDARD
TZOFFSETFROM:-0300
TZOFFSETTO:-0400
TZNAME:AST
DTSTART:20251102T050000
END:STANDARD
END:VTIMEZONE
BEGIN:VEVENT
DTSTART;TZID=America/Halifax:20240511T133000
DTEND;TZID=America/Halifax:20240511T170000
DTSTAMP:20260422T134652
CREATED:20240417T173329Z
LAST-MODIFIED:20240417T173329Z
UID:2220-1715434200-1715446800@pcnb.ca
SUMMARY:Madawaska-Les-Lacs-Edmundston Nominating Convention
DESCRIPTION:May 11th 2024 \n  \nClub D’Âge D’Or Amitié \n227\, St-François St \nEdmundston\, NB \nE3V 1G1 \n  \nRegistration: 1:30 pm \nMeeting: 2:00 pm \nVoting: 2:30pm \n  \nSpecial Guest: \nPremier Blaine Higgs \nYou must be a party member by May 4\, 2024\, at 4:30 p.m. and meet the residency requirements in order to vote. (Photo identification is required.) \n 
URL:https://pcnb.ca/event/madawaska-les-lacs-edmundston-nominating-convention/
LOCATION:Club D’Âge D’Or Amitié\, 227\, rue St-François\, Edmundston\, NB\, E3V 1G1\, Canada
END:VEVENT
END:VCALENDAR